BEGIN:VCALENDAR
VERSION:2.0
PRODID:-//Harpswell Aging at Home - ECPv6.15.20//NONSGML v1.0//EN
CALSCALE:GREGORIAN
METHOD:PUBLISH
X-WR-CALNAME:Harpswell Aging at Home
X-ORIGINAL-URL:https://hah.community
X-WR-CALDESC:Events for Harpswell Aging at Home
REFRESH-INTERVAL;VALUE=DURATION:PT1H
X-Robots-Tag:noindex
X-PUBLISHED-TTL:PT1H
BEGIN:VTIMEZONE
TZID:America/New_York
BEGIN:DAYLIGHT
TZOFFSETFROM:-0500
TZOFFSETTO:-0400
TZNAME:EDT
DTSTART:20230312T070000
END:DAYLIGHT
BEGIN:STANDARD
TZOFFSETFROM:-0400
TZOFFSETTO:-0500
TZNAME:EST
DTSTART:20231105T060000
END:STANDARD
BEGIN:DAYLIGHT
TZOFFSETFROM:-0500
TZOFFSETTO:-0400
TZNAME:EDT
DTSTART:20240310T070000
END:DAYLIGHT
BEGIN:STANDARD
TZOFFSETFROM:-0400
TZOFFSETTO:-0500
TZNAME:EST
DTSTART:20241103T060000
END:STANDARD
BEGIN:DAYLIGHT
TZOFFSETFROM:-0500
TZOFFSETTO:-0400
TZNAME:EDT
DTSTART:20250309T070000
END:DAYLIGHT
BEGIN:STANDARD
TZOFFSETFROM:-0400
TZOFFSETTO:-0500
TZNAME:EST
DTSTART:20251102T060000
END:STANDARD
END:VTIMEZONE
BEGIN:VEVENT
DTSTART;TZID=America/New_York:20241019T100000
DTEND;TZID=America/New_York:20241019T120000
DTSTAMP:20260419T111049
CREATED:20240910T192742Z
LAST-MODIFIED:20240916T122419Z
UID:1889-1729332000-1729339200@hah.community
SUMMARY:Harpswell’s Own Repair Café
DESCRIPTION:Reduce\, Reuse\, Recycle. Here’s your opportunity to make those old things\, new again. Bring your broken items needing to be fixed to the Repair Cafe. Come visit us for rewiring lamps\, sharpening knives\, hemming pants\, glueing chairs\, restringing jewelry\, and much more. No appointment necessary. Our volunteers are ready to help. If you have any questions about your item please contact Martha Israel at marthaisraelhah@gmail.com or (207) 841-0949.
URL:https://hah.community/event/harpswells-own-repair-cafe-2/
LOCATION:Harpswell Town Office\, 263 Mountain Road\, Harpswell\, ME\, 04079\, United States
CATEGORIES:Public Events
ORGANIZER;CN="HAH":MAILTO:hah@hah.community
END:VEVENT
END:VCALENDAR