BEGIN:VCALENDAR
VERSION:2.0
PRODID:-//Harpswell Aging at Home - ECPv6.15.20//NONSGML v1.0//EN
CALSCALE:GREGORIAN
METHOD:PUBLISH
X-ORIGINAL-URL:https://hah.community
X-WR-CALDESC:Events for Harpswell Aging at Home
REFRESH-INTERVAL;VALUE=DURATION:PT1H
X-Robots-Tag:noindex
X-PUBLISHED-TTL:PT1H
BEGIN:VTIMEZONE
TZID:America/New_York
BEGIN:DAYLIGHT
TZOFFSETFROM:-0500
TZOFFSETTO:-0400
TZNAME:EDT
DTSTART:20250309T070000
END:DAYLIGHT
BEGIN:STANDARD
TZOFFSETFROM:-0400
TZOFFSETTO:-0500
TZNAME:EST
DTSTART:20251102T060000
END:STANDARD
BEGIN:DAYLIGHT
TZOFFSETFROM:-0500
TZOFFSETTO:-0400
TZNAME:EDT
DTSTART:20260308T070000
END:DAYLIGHT
BEGIN:STANDARD
TZOFFSETFROM:-0400
TZOFFSETTO:-0500
TZNAME:EST
DTSTART:20261101T060000
END:STANDARD
BEGIN:DAYLIGHT
TZOFFSETFROM:-0500
TZOFFSETTO:-0400
TZNAME:EDT
DTSTART:20270314T070000
END:DAYLIGHT
BEGIN:STANDARD
TZOFFSETFROM:-0400
TZOFFSETTO:-0500
TZNAME:EST
DTSTART:20271107T060000
END:STANDARD
END:VTIMEZONE
BEGIN:VEVENT
DTSTART;TZID=America/New_York:20260211T100000
DTEND;TZID=America/New_York:20260211T120000
DTSTAMP:20260419T222824
CREATED:20260115T143233Z
LAST-MODIFIED:20260115T143233Z
UID:2492-1770804000-1770811200@hah.community
SUMMARY:Bereavement Support Group
DESCRIPTION:Losing a loved one can be hard and filled with grief. To help manage the loss\, HAH is offering a twelve-week Bereavement Support Group for individuals and families of all ages starting February 11. For more information and to register\, call the group facilitator\, Sarah Beneke at 330-414-4825.
URL:https://hah.community/event/bereavement-support-group/
LOCATION:TBA
CATEGORIES:Bereavement Support Program,Public Events
END:VEVENT
BEGIN:VEVENT
DTSTART;TZID=America/New_York:20260211T120000
DTEND;TZID=America/New_York:20260211T133000
DTSTAMP:20260419T222824
CREATED:20260115T143006Z
LAST-MODIFIED:20260115T143021Z
UID:2490-1770811200-1770816600@hah.community
SUMMARY:Harpswell ROMEOs: Journalism Challenges in Today's Culture
DESCRIPTION:The Harpswell ROMEOs (Retired Older Men Eating Out) will hear from author and Orr’s Island resident Jeffrey Good on the challenges of journalism in today’s culture. As an investigative reporter and editorial writer\, Jeff won the Pulitizer Prize for exposing the way Florida’s probate court system betrayed people’s final wishes. This event is free and includes lunch but registration is required due to limited seating. To register\, contact Tom Mahoney at oldermeneatingout@gmail.com.
URL:https://hah.community/event/harpswell-romeos-journalism-challenges-in-todays-culture/
LOCATION:Orr’s Island Schoolhouse\, 1594 Harpswell Islands Road\, Orr's Island\, ME\, 04066\, United States
CATEGORIES:Harpswell ROMEOs,Public Events
ORGANIZER;CN="HAH":MAILTO:hah@hah.community
END:VEVENT
BEGIN:VEVENT
DTSTART;TZID=America/New_York:20260212T133000
DTEND;TZID=America/New_York:20260212T150000
DTSTAMP:20260419T222824
CREATED:20260115T143439Z
LAST-MODIFIED:20260115T143439Z
UID:2494-1770903000-1770908400@hah.community
SUMMARY:Cooking at 43° North: Good Fortune on a Plate
DESCRIPTION:Celebrate Lunar New Year by learning how to make a selection of Chinese appetizers—and enjoy sampling some tasty bites. These crowd-pleasing dishes are perfect for entertaining and adding a festive flair to any gathering. Space is limited. Reserve your seat by emailing Julie Moulton at juliemoulton28@gmail.com or text/call her at 207-330-5416.
URL:https://hah.community/event/cooking-at-43-north-good-fortune-on-a-plate/
LOCATION:Orr’s Island Schoolhouse\, 1594 Harpswell Islands Road\, Orr's Island\, ME\, 04066\, United States
CATEGORIES:Cooking at 43º North,Public Events
ORGANIZER;CN="Julie Moulton":MAILTO:juliemoulton28@gmail.com
END:VEVENT
BEGIN:VEVENT
DTSTART;TZID=America/New_York:20260218T100000
DTEND;TZID=America/New_York:20260218T113000
DTSTAMP:20260419T222824
CREATED:20260115T143708Z
LAST-MODIFIED:20260115T143708Z
UID:2496-1771408800-1771414200@hah.community
SUMMARY:Mugs & Muffins with Friends
DESCRIPTION:Harpswell residents are invited to a new community drop-in event for coffee\, tea\, muffins or scones along with conversation\, and maybe even a creative activity! Come get out of the house to visit with old friends and make new ones this winter. No reservations required\, just come by.
URL:https://hah.community/event/mugs-muffins-with-friends-2/
LOCATION:Elijah Kellogg Church Fellowship Hall
CATEGORIES:Mugs & Muffins with Friends,Public Events
ORGANIZER;CN="Julie Moulton":MAILTO:juliemoulton28@gmail.com
END:VEVENT
BEGIN:VEVENT
DTSTART;TZID=America/New_York:20260219T130000
DTEND;TZID=America/New_York:20260219T150000
DTSTAMP:20260419T222824
CREATED:20260115T144142Z
LAST-MODIFIED:20260216T203455Z
UID:2499-1771506000-1771513200@hah.community
SUMMARY:Harpswell Women's Social Group: Game Day
DESCRIPTION:Harpswell Aging at Home’s newly formed Women’s Social Group will host a fun afternoon playing your favorite games. Whether it’s cribbage\, Rummikub\, Scrabble or whatever – please bring your favorite game or try a new one! This group is open to women ages 55+ who live in Harpswell. Due to limited seating\, registration is required. Please email your interest to: womensgroup@hah.community.
URL:https://hah.community/event/harpswell-womens-social-group-game-day/
LOCATION:Elijah Kellogg Church Fellowship Hall
CATEGORIES:Public Events,Women's Group
ORGANIZER;CN="HAH":MAILTO:hah@hah.community
END:VEVENT
BEGIN:VEVENT
DTSTART;VALUE=DATE:20260224
DTEND;VALUE=DATE:20260225
DTSTAMP:20260419T222824
CREATED:20260216T202921Z
LAST-MODIFIED:20260216T203449Z
UID:2537-1771891200-1771977599@hah.community
SUMMARY:Meals in a Pinch
DESCRIPTION:Meals in a Pinch runs every other Tuesday and provides four meals to some of our Harpswell neighbors for a variety of reasons. Some are not able to consistently prepare meals because of health\, ability\, or mobility; others have difficulty obtaining food for practical or financial reasons. There is no income qualification–only a recognition that we all need some support at times. Whether an ongoing situation or a temporary need–like after a surgery or illness–Harpswell Aging at Home has meals available. Emergency meals can even be provided on the same day if necessary. Contact: Julie Moulton at juliemoulton28@gmail.com or 330-5416.\nLearn more about the MIP Program
URL:https://hah.community/event/meals-in-a-pinch-90/
CATEGORIES:Public Events
ORGANIZER;CN="Julie Moulton":MAILTO:juliemoulton28@gmail.com
END:VEVENT
BEGIN:VEVENT
DTSTART;TZID=America/New_York:20260227T120000
DTEND;TZID=America/New_York:20260227T150000
DTSTAMP:20260419T222824
CREATED:20260216T203104Z
LAST-MODIFIED:20260216T203443Z
UID:2539-1772193600-1772204400@hah.community
SUMMARY:Cooking for Friends (with Friends)
DESCRIPTION:The Cooking for Friends (with Friends) program prepares food for Harpswell Aging at Home’s Meals in a Pinch program from noon to 3 p.m. on Jan. 30 and Feb. 13 and 27. Cooks meet in the Mid Coast Hunger Prevention Program’s kitchen\, 179 Neptune Drive\, Brunswick. Ingredients and recipes supplied. To sign up\, contact Julie Moulton at juliemoulton28@gmail.com or 207-330-5416.
URL:https://hah.community/event/cooking-for-friends-with-friends-26/
LOCATION:179 Neptune Drive\, Brunswick
CATEGORIES:Cooking for Friends (with Friends),Public Events
ORGANIZER;CN="Julie Moulton":MAILTO:juliemoulton28@gmail.com
END:VEVENT
END:VCALENDAR