BEGIN:VCALENDAR
VERSION:2.0
PRODID:-//Harpswell Aging at Home - ECPv6.15.20//NONSGML v1.0//EN
CALSCALE:GREGORIAN
METHOD:PUBLISH
X-WR-CALNAME:Harpswell Aging at Home
X-ORIGINAL-URL:https://hah.community
X-WR-CALDESC:Events for Harpswell Aging at Home
REFRESH-INTERVAL;VALUE=DURATION:PT1H
X-Robots-Tag:noindex
X-PUBLISHED-TTL:PT1H
BEGIN:VTIMEZONE
TZID:America/New_York
BEGIN:DAYLIGHT
TZOFFSETFROM:-0500
TZOFFSETTO:-0400
TZNAME:EDT
DTSTART:20250309T070000
END:DAYLIGHT
BEGIN:STANDARD
TZOFFSETFROM:-0400
TZOFFSETTO:-0500
TZNAME:EST
DTSTART:20251102T060000
END:STANDARD
BEGIN:DAYLIGHT
TZOFFSETFROM:-0500
TZOFFSETTO:-0400
TZNAME:EDT
DTSTART:20260308T070000
END:DAYLIGHT
BEGIN:STANDARD
TZOFFSETFROM:-0400
TZOFFSETTO:-0500
TZNAME:EST
DTSTART:20261101T060000
END:STANDARD
BEGIN:DAYLIGHT
TZOFFSETFROM:-0500
TZOFFSETTO:-0400
TZNAME:EDT
DTSTART:20270314T070000
END:DAYLIGHT
BEGIN:STANDARD
TZOFFSETFROM:-0400
TZOFFSETTO:-0500
TZNAME:EST
DTSTART:20271107T060000
END:STANDARD
END:VTIMEZONE
BEGIN:VEVENT
DTSTART;TZID=America/New_York:20260108T133000
DTEND;TZID=America/New_York:20260108T150000
DTSTAMP:20260419T235806
CREATED:20251215T161105Z
LAST-MODIFIED:20251215T161105Z
UID:2483-1767879000-1767884400@hah.community
SUMMARY:Cooking at 43° North: Lobstering Aboard The Easy Money
DESCRIPTION:HAH’s Cooking at 43° North program presents: Lobstering Aboard The Easy Money with Bill Coffin. Experienced lobsterman Bill Coffin will provide an insider’s look at what it means to lobster in Harpswell. Bill will share his stories as he answers questions about his challenging profession. Learn what drives him to go out on his boat and bring in the catch. Sample a few lobster treats made by Harpswell cooks. Space is limited. Reserve your seat by emailing Julie Moulton at juliemoulton28@gmail.com or text/call her at 207-330-5416.
URL:https://hah.community/event/cooking-at-43-north-lobstering-aboard-the-easy-money/
LOCATION:Merriconeag Grange\, 529 Harpswell Neck Rd\, Harpswell\, ME\, 04079\, United States
CATEGORIES:Cooking at 43º North,Public Events
ORGANIZER;CN="Julie Moulton":MAILTO:juliemoulton28@gmail.com
END:VEVENT
BEGIN:VEVENT
DTSTART;TZID=America/New_York:20260113T120000
DTEND;TZID=America/New_York:20260113T133000
DTSTAMP:20260419T235806
CREATED:20251215T160215Z
LAST-MODIFIED:20251215T160215Z
UID:2474-1768305600-1768311000@hah.community
SUMMARY:Harpswell ROMEOs: Men's Health
DESCRIPTION:The Harpswell ROMEOs (Retired Older Men Eating Out) first meeting of 2026 will focus on health. All men are invited to hear from Chris Bowe\, CEO of Midcoast Maine Hospital\, who will be speaking about men’s health issues. Come learn more to start the new year off right! The ROMEOS event\, which includes lunch\, is free but registration is required due to limited seating. To register and for ad¬ditional info\, contact Tom Mahoney at oldermeneatingout@gmail.com.
URL:https://hah.community/event/harpswell-romeos-mens-health/
LOCATION:Merriconeag Grange\, 529 Harpswell Neck Rd\, Harpswell\, ME\, 04079\, United States
CATEGORIES:Harpswell ROMEOs,Public Events
ORGANIZER;CN="HAH":MAILTO:hah@hah.community
END:VEVENT
BEGIN:VEVENT
DTSTART;TZID=America/New_York:20260115T103000
DTEND;TZID=America/New_York:20260115T120000
DTSTAMP:20260419T235806
CREATED:20251215T160813Z
LAST-MODIFIED:20251215T160813Z
UID:2479-1768473000-1768478400@hah.community
SUMMARY:Harpswell Women's Group
DESCRIPTION:Harpswell Aging at Home’s newly formed Women’s Group will host its first meeting of 2026 at the Merriconeag Grange on January 15 at 10:30am. This group is open to women ages 55+ who live in Harpswell. Dr. Nirav Shah will be the guest speaker\, addressing issues of health and wellness for women. Due to limited seating\, registration is required. Please email your interest to: womensgroup@hah.community.
URL:https://hah.community/event/harpswell-womens-group/
LOCATION:Merriconeag Grange\, 529 Harpswell Neck Rd\, Harpswell\, ME\, 04079\, United States
CATEGORIES:Public Events,Women's Group
ORGANIZER;CN="HAH":MAILTO:hah@hah.community
END:VEVENT
BEGIN:VEVENT
DTSTART;TZID=America/New_York:20260122T120000
DTEND;TZID=America/New_York:20260122T133000
DTSTAMP:20260419T235806
CREATED:20251215T160459Z
LAST-MODIFIED:20251215T160459Z
UID:2477-1769083200-1769088600@hah.community
SUMMARY:Lunch with Friends
DESCRIPTION:All are invited to Harpswell Aging at Home’s free community lunch. Visit with new and old friends or pick up a meal to take home. Come for good food and good company\, presented in partnership this month by Harpswell Indivisible. Just drop in\, no registration required.
URL:https://hah.community/event/lunch-with-friends-20/
LOCATION:Orr’s Island Schoolhouse\, 1594 Harpswell Islands Road\, Orr's Island\, ME\, 04066\, United States
CATEGORIES:Lunch with Friends,Public Events
ORGANIZER;CN="Julie Moulton":MAILTO:juliemoulton28@gmail.com
END:VEVENT
END:VCALENDAR