BEGIN:VCALENDAR
VERSION:2.0
PRODID:-//Harpswell Aging at Home - ECPv6.15.20//NONSGML v1.0//EN
CALSCALE:GREGORIAN
METHOD:PUBLISH
X-ORIGINAL-URL:https://hah.community
X-WR-CALDESC:Events for Harpswell Aging at Home
REFRESH-INTERVAL;VALUE=DURATION:PT1H
X-Robots-Tag:noindex
X-PUBLISHED-TTL:PT1H
BEGIN:VTIMEZONE
TZID:America/New_York
BEGIN:DAYLIGHT
TZOFFSETFROM:-0500
TZOFFSETTO:-0400
TZNAME:EDT
DTSTART:20240310T070000
END:DAYLIGHT
BEGIN:STANDARD
TZOFFSETFROM:-0400
TZOFFSETTO:-0500
TZNAME:EST
DTSTART:20241103T060000
END:STANDARD
BEGIN:DAYLIGHT
TZOFFSETFROM:-0500
TZOFFSETTO:-0400
TZNAME:EDT
DTSTART:20250309T070000
END:DAYLIGHT
BEGIN:STANDARD
TZOFFSETFROM:-0400
TZOFFSETTO:-0500
TZNAME:EST
DTSTART:20251102T060000
END:STANDARD
BEGIN:DAYLIGHT
TZOFFSETFROM:-0500
TZOFFSETTO:-0400
TZNAME:EDT
DTSTART:20260308T070000
END:DAYLIGHT
BEGIN:STANDARD
TZOFFSETFROM:-0400
TZOFFSETTO:-0500
TZNAME:EST
DTSTART:20261101T060000
END:STANDARD
END:VTIMEZONE
BEGIN:VEVENT
DTSTART;VALUE=DATE:20251202
DTEND;VALUE=DATE:20251203
DTSTAMP:20260420T015836
CREATED:20251117T145830Z
LAST-MODIFIED:20251117T145830Z
UID:2426-1764633600-1764719999@hah.community
SUMMARY:Meals in a Pinch
DESCRIPTION:Meals in a Pinch runs every other Tuesday and provides four meals to some of our Harpswell neighbors for a variety of reasons. Some are not able to consistently prepare meals because of health\, ability\, or mobility; others have difficulty obtaining food for practical or financial reasons. There is no income qualification–only a recognition that we all need some support at times. Whether an ongoing situation or a temporary need–like after a surgery or illness–Harpswell Aging at Home has meals available. Emergency meals can even be provided on the same day if necessary. Contact: Julie Moulton at juliemoulton28@gmail.com or 330-5416.\nLearn more about the MIP Program
URL:https://hah.community/event/meals-in-a-pinch-87/
CATEGORIES:Public Events
ORGANIZER;CN="Julie Moulton":MAILTO:juliemoulton28@gmail.com
END:VEVENT
BEGIN:VEVENT
DTSTART;TZID=America/New_York:20251209T100000
DTEND;TZID=America/New_York:20251209T113000
DTSTAMP:20260420T015836
CREATED:20251117T143853Z
LAST-MODIFIED:20251117T143933Z
UID:2406-1765274400-1765279800@hah.community
SUMMARY:Mugs & Muffins with Friends
DESCRIPTION:Harpswell residents are invited to a new community drop-in event for coffee\, tea\, muffins or scones along with conversation\, and maybe even a creative activity or two! Visit with old friends\, make new ones\, and check out the creative craft project being offered. No reservations required\, just come by.
URL:https://hah.community/event/mugs-muffins-with-friends/
LOCATION:Cundy’s Harbor Community Hall\, 837 Cundy's Harbor Road\, Harpswell\, ME\, 04079\, United States
CATEGORIES:Mugs & Muffins with Friends,Public Events
ORGANIZER;CN="Julie Moulton":MAILTO:juliemoulton28@gmail.com
END:VEVENT
BEGIN:VEVENT
DTSTART;TZID=America/New_York:20251210T120000
DTEND;TZID=America/New_York:20251210T133000
DTSTAMP:20260420T015836
CREATED:20251117T144155Z
LAST-MODIFIED:20251117T144231Z
UID:2408-1765368000-1765373400@hah.community
SUMMARY:Harpswell ROMEOs: Driving as We Age
DESCRIPTION:Tom Meuser\, psychologist\, gerontologist\, and educator with the Maine Bureaus of Motor Vehicles & Highway Safety\, will discuss driving fitness\, health & aging. Driving is a complex activity and while most older adults are safe drivers\, approximately 10% are not due to health and functional changes. Learn what the considerations are for safe mobility. Lunch will be served. The event is free but registration is required due to limited seating. To register and for additional info\, contact Tom Mahoney at oldermeneatingout@gmail.com
URL:https://hah.community/event/harpswell-romeos-driving-as-we-age/
LOCATION:Merriconeag Grange\, 529 Harpswell Neck Rd\, Harpswell\, ME\, 04079\, United States
CATEGORIES:Harpswell ROMEOs,Public Events
ORGANIZER;CN="HAH":MAILTO:hah@hah.community
END:VEVENT
BEGIN:VEVENT
DTSTART;TZID=America/New_York:20251212T120000
DTEND;TZID=America/New_York:20251212T150000
DTSTAMP:20260420T015836
CREATED:20251117T145646Z
LAST-MODIFIED:20251117T145646Z
UID:2422-1765540800-1765551600@hah.community
SUMMARY:Cooking for Friends (with Friends)
DESCRIPTION:The Cooking for Friends (with Friends) program prepares food for Harpswell Aging at Home’s Meals in a Pinch program from noon to 3 p.m. on Friday\, November 14\, Tuesday\, November 25\, Friday\, December 12 & 26. Cooks meet in the Mid Coast Hunger Prevention Program’s commercial kitchen at 179 Neptune Drive\, Brunswick. Ingredients and recipes supplied. To sign up\, contact Julie Moulton at juliemoulton28@gmail.com or 207-330-5416.
URL:https://hah.community/event/cooking-for-friends-with-friends-24/
LOCATION:179 Neptune Drive\, Brunswick
CATEGORIES:Cooking for Friends (with Friends),Public Events
ORGANIZER;CN="Julie Moulton":MAILTO:juliemoulton28@gmail.com
END:VEVENT
BEGIN:VEVENT
DTSTART;TZID=America/New_York:20251214T130000
DTEND;TZID=America/New_York:20251214T141500
DTSTAMP:20260420T015836
CREATED:20251117T143548Z
LAST-MODIFIED:20251117T154055Z
UID:2404-1765717200-1765721700@hah.community
SUMMARY:Harpswell Community Cookie Swap and Caroling Party
DESCRIPTION:It’s that wonderful time of year again. Join HAH’s Cooking at 43° North for its annual cookie swap. Who doesn’t like a tasty holiday cookie? We sure do. Make 4 dozen of your favorite festive cookies\, pack 4 to a package\, and include a recipe. We’ll do a little sampling…yum\, and will be joined by the Harpswell Girl Scouts for some caroling (complete with piano accompaniment). Please let us know you are coming by email: juliemoulton28@gmail.com or by text or phone: 207-330-5416 so we can contact you in case of inclement weather.
URL:https://hah.community/event/harpswell-community-cookie-swap-and-caroling-party/
LOCATION:Merriconeag Grange\, 529 Harpswell Neck Rd\, Harpswell\, ME\, 04079\, United States
CATEGORIES:Cooking at 43º North,Public Events
ORGANIZER;CN="HAH":MAILTO:hah@hah.community
END:VEVENT
BEGIN:VEVENT
DTSTART;VALUE=DATE:20251216
DTEND;VALUE=DATE:20251217
DTSTAMP:20260420T015836
CREATED:20251117T145904Z
LAST-MODIFIED:20251117T145904Z
UID:2428-1765843200-1765929599@hah.community
SUMMARY:Meals in a Pinch
DESCRIPTION:Meals in a Pinch runs every other Tuesday and provides four meals to some of our Harpswell neighbors for a variety of reasons. Some are not able to consistently prepare meals because of health\, ability\, or mobility; others have difficulty obtaining food for practical or financial reasons. There is no income qualification–only a recognition that we all need some support at times. Whether an ongoing situation or a temporary need–like after a surgery or illness–Harpswell Aging at Home has meals available. Emergency meals can even be provided on the same day if necessary. Contact: Julie Moulton at juliemoulton28@gmail.com or 330-5416.\nLearn more about the MIP Program
URL:https://hah.community/event/meals-in-a-pinch-88/
CATEGORIES:Public Events
ORGANIZER;CN="Julie Moulton":MAILTO:juliemoulton28@gmail.com
END:VEVENT
BEGIN:VEVENT
DTSTART;TZID=America/New_York:20251218T130000
DTEND;TZID=America/New_York:20251218T150000
DTSTAMP:20260420T015836
CREATED:20251203T210121Z
LAST-MODIFIED:20251203T210308Z
UID:2458-1766062800-1766070000@hah.community
SUMMARY:Harpswell Aging at Home Women's Group Holiday Tea & Yankee Swap
DESCRIPTION:Harpswell Aging at Home Women’s Group is having a Holiday Tea & Yankee Swap* on December 18 at 1:00 p.m. at Orr’s Island Schoolhouse. We welcome your baked goodies to share and don’t forget a wrapped gift for the Yankee Swap. Questions? Contact Christine at womensgroup@hah.community. \n*Yankee Swap: a fun party game where guests exchange a wrapped item that they no longer use but is still in good condition. \nView the flyer
URL:https://hah.community/event/harpswell-aging-at-home-womens-group-holiday-tea-yankee-swap/
LOCATION:Orr’s Island Schoolhouse\, 1594 Harpswell Islands Road\, Orr's Island\, ME\, 04066\, United States
CATEGORIES:Public Events,Women's Group
ORGANIZER;CN="HAH":MAILTO:hah@hah.community
END:VEVENT
BEGIN:VEVENT
DTSTART;TZID=America/New_York:20251226T120000
DTEND;TZID=America/New_York:20251226T150000
DTSTAMP:20260420T015836
CREATED:20251117T145719Z
LAST-MODIFIED:20251117T145719Z
UID:2424-1766750400-1766761200@hah.community
SUMMARY:Cooking for Friends (with Friends)
DESCRIPTION:The Cooking for Friends (with Friends) program prepares food for Harpswell Aging at Home’s Meals in a Pinch program from noon to 3 p.m. on Friday\, November 14\, Tuesday\, November 25\, Friday\, December 12 & 26. Cooks meet in the Mid Coast Hunger Prevention Program’s commercial kitchen at 179 Neptune Drive\, Brunswick. Ingredients and recipes supplied. To sign up\, contact Julie Moulton at juliemoulton28@gmail.com or 207-330-5416.
URL:https://hah.community/event/cooking-for-friends-with-friends-25/
LOCATION:179 Neptune Drive\, Brunswick
CATEGORIES:Cooking for Friends (with Friends),Public Events
ORGANIZER;CN="Julie Moulton":MAILTO:juliemoulton28@gmail.com
END:VEVENT
BEGIN:VEVENT
DTSTART;VALUE=DATE:20251230
DTEND;VALUE=DATE:20251231
DTSTAMP:20260420T015836
CREATED:20251117T145946Z
LAST-MODIFIED:20251117T145946Z
UID:2430-1767052800-1767139199@hah.community
SUMMARY:Meals in a Pinch
DESCRIPTION:Meals in a Pinch runs every other Tuesday and provides four meals to some of our Harpswell neighbors for a variety of reasons. Some are not able to consistently prepare meals because of health\, ability\, or mobility; others have difficulty obtaining food for practical or financial reasons. There is no income qualification–only a recognition that we all need some support at times. Whether an ongoing situation or a temporary need–like after a surgery or illness–Harpswell Aging at Home has meals available. Emergency meals can even be provided on the same day if necessary. Contact: Julie Moulton at juliemoulton28@gmail.com or 330-5416.\nLearn more about the MIP Program
URL:https://hah.community/event/meals-in-a-pinch-89/
CATEGORIES:Public Events
ORGANIZER;CN="Julie Moulton":MAILTO:juliemoulton28@gmail.com
END:VEVENT
END:VCALENDAR