BEGIN:VCALENDAR
VERSION:2.0
PRODID:-//Harpswell Aging at Home - ECPv6.15.20//NONSGML v1.0//EN
CALSCALE:GREGORIAN
METHOD:PUBLISH
X-WR-CALNAME:Harpswell Aging at Home
X-ORIGINAL-URL:https://hah.community
X-WR-CALDESC:Events for Harpswell Aging at Home
REFRESH-INTERVAL;VALUE=DURATION:PT1H
X-Robots-Tag:noindex
X-PUBLISHED-TTL:PT1H
BEGIN:VTIMEZONE
TZID:America/New_York
BEGIN:DAYLIGHT
TZOFFSETFROM:-0500
TZOFFSETTO:-0400
TZNAME:EDT
DTSTART:20240310T070000
END:DAYLIGHT
BEGIN:STANDARD
TZOFFSETFROM:-0400
TZOFFSETTO:-0500
TZNAME:EST
DTSTART:20241103T060000
END:STANDARD
BEGIN:DAYLIGHT
TZOFFSETFROM:-0500
TZOFFSETTO:-0400
TZNAME:EDT
DTSTART:20250309T070000
END:DAYLIGHT
BEGIN:STANDARD
TZOFFSETFROM:-0400
TZOFFSETTO:-0500
TZNAME:EST
DTSTART:20251102T060000
END:STANDARD
BEGIN:DAYLIGHT
TZOFFSETFROM:-0500
TZOFFSETTO:-0400
TZNAME:EDT
DTSTART:20260308T070000
END:DAYLIGHT
BEGIN:STANDARD
TZOFFSETFROM:-0400
TZOFFSETTO:-0500
TZNAME:EST
DTSTART:20261101T060000
END:STANDARD
END:VTIMEZONE
BEGIN:VEVENT
DTSTART;TZID=America/New_York:20251106T090000
DTEND;TZID=America/New_York:20251106T111500
DTSTAMP:20260420T033808
CREATED:20251015T191218Z
LAST-MODIFIED:20251025T032259Z
UID:2350-1762419600-1762427700@hah.community
SUMMARY:Friends Together (Session 3 of 4)
DESCRIPTION:Join us for chair yoga with Janet Alexander from 9-10 and then it’s time for Driving as We Age: Are There New Rules of the Road? We all want to drive for as long as it is possible to maintain our independence\, yet sometimes changes are necessary. Some of us may require adaptive equipment. Others may need different vehicles. Most of us will need to refine our driving skills and habits. Heather Shields will help us explore ways to stay on the road safely.
URL:https://hah.community/event/friends-together-session-3-of-4/
LOCATION:Harpswell Town Office\, 263 Mountain Road\, Harpswell\, ME\, 04079\, United States
CATEGORIES:Friends Together,Public Events
ORGANIZER;CN="HAH":MAILTO:hah@hah.community
END:VEVENT
BEGIN:VEVENT
DTSTART;TZID=America/New_York:20251108T100000
DTEND;TZID=America/New_York:20251108T120000
DTSTAMP:20260420T033808
CREATED:20251015T191908Z
LAST-MODIFIED:20251015T191908Z
UID:2356-1762596000-1762603200@hah.community
SUMMARY:Harpswell Repair Cafe
DESCRIPTION:The Repair Café is a place where you can get help repairing your beloved or useful everyday items rather than throw them away. It is free and open to anyone\, regardless of age or income. Bring your item and let your Harpswell neighbors lend a hand with these (and other) repairs: small electronics\, lamps\, wooden furniture\, jewelry\, sewing and knitting\, as well as computer/tech assistance\, knife sharpening\, sewing machine cleaning/oiling\, and soldering. If you have any questions about your item\, please contact Martha Israel at marthaisraelhah@gmail.com or (207) 841-0949.
URL:https://hah.community/event/harpswell-repair-cafe-2/
LOCATION:Harpswell Town Office\, 263 Mountain Road\, Harpswell\, ME\, 04079\, United States
CATEGORIES:Public Events,Repair Cafe
ORGANIZER;CN="Julie Moulton":MAILTO:juliemoulton28@gmail.com
END:VEVENT
BEGIN:VEVENT
DTSTART;TZID=America/New_York:20251112T120000
DTEND;TZID=America/New_York:20251112T133000
DTSTAMP:20260420T033808
CREATED:20251015T191421Z
LAST-MODIFIED:20251015T191421Z
UID:2352-1762948800-1762954200@hah.community
SUMMARY:Harpswell ROMEOs: Saluting Our Vets
DESCRIPTION:As we honor those who have served our country\, come hear from Rich Mears from the Mid-Coast Veterans’ Council\, who will share the many services the Council provides to Veterans and their families. Lunch will be served. The event is free but registration is required due to limited seating. To register and for additional info\, contact Tom Mahoney at oldermeneatingout@gmail.com.
URL:https://hah.community/event/harpswell-romeos-saluting-our-vets/
LOCATION:Merriconeag Grange\, 529 Harpswell Neck Rd\, Harpswell\, ME\, 04079\, United States
CATEGORIES:Harpswell ROMEOs,Public Events
ORGANIZER;CN="HAH":MAILTO:hah@hah.community
END:VEVENT
BEGIN:VEVENT
DTSTART;TZID=America/New_York:20251113T090000
DTEND;TZID=America/New_York:20251113T111500
DTSTAMP:20260420T033808
CREATED:20251015T190741Z
LAST-MODIFIED:20251015T190741Z
UID:2346-1763024400-1763032500@hah.community
SUMMARY:Friends Together (Session 4 of 4)
DESCRIPTION:Join us for Chair Yoga with Janet Alexander from 9-10 and then it’s time to learn and practice Zentangle. What’s that\, you ask? Zentangle is a meditative drawing method that transforms simple patterns into beautiful\, intricate designs. No artistic experience is needed! Come put pen to paper and enjoy this calming way to reduce stress\, spark creativity\, and explore art in a fun and accessible way. No registration needed. See you there!
URL:https://hah.community/event/friends-together-session-4-of-4/
LOCATION:Harpswell Town Office\, 263 Mountain Road\, Harpswell\, ME\, 04079\, United States
CATEGORIES:Friends Together,Public Events
ORGANIZER;CN="HAH":MAILTO:hah@hah.community
END:VEVENT
BEGIN:VEVENT
DTSTART;TZID=America/New_York:20251113T133000
DTEND;TZID=America/New_York:20251113T150000
DTSTAMP:20260420T033808
CREATED:20251015T191659Z
LAST-MODIFIED:20251015T191659Z
UID:2354-1763040600-1763046000@hah.community
SUMMARY:Cooking at 43° North Presents: It's Easy as Pie
DESCRIPTION:Pie crusts don’t have to be scary. In fact they can be quick and easy. This session will cover everything from quick store-bought shortcuts to press-in crumb crusts to classic rolled pastry — along with some tips and tricks to help you up your “crust game”. You’ll also get a chance to make a small pie to take home and bake\, so you can head into the holidays confident and ready to impress. Sign up with Julie Moulton (juliemoulton28@gmail.com) or 207-330-5416.
URL:https://hah.community/event/cooking-at-43-north-presents-its-easy-as-pie/
LOCATION:Cundy’s Harbor Community Hall\, 837 Cundy's Harbor Road\, Harpswell\, ME\, 04079\, United States
CATEGORIES:Cooking at 43º North,Public Events
ORGANIZER;CN="Julie Moulton":MAILTO:juliemoulton28@gmail.com
END:VEVENT
BEGIN:VEVENT
DTSTART;VALUE=DATE:20251118
DTEND;VALUE=DATE:20251119
DTSTAMP:20260420T033808
CREATED:20251117T145223Z
LAST-MODIFIED:20251117T145223Z
UID:2417-1763424000-1763510399@hah.community
SUMMARY:Meals in a Pinch
DESCRIPTION:Meals in a Pinch runs every other Tuesday and provides four meals to some of our Harpswell neighbors for a variety of reasons. Some are not able to consistently prepare meals because of health\, ability\, or mobility; others have difficulty obtaining food for practical or financial reasons. There is no income qualification–only a recognition that we all need some support at times. Whether an ongoing situation or a temporary need–like after a surgery or illness–Harpswell Aging at Home has meals available. Emergency meals can even be provided on the same day if necessary. Contact: Julie Moulton at juliemoulton28@gmail.com or 330-5416.\nLearn more about the MIP Program
URL:https://hah.community/event/meals-in-a-pinch-86/
CATEGORIES:Public Events
ORGANIZER;CN="Julie Moulton":MAILTO:juliemoulton28@gmail.com
END:VEVENT
BEGIN:VEVENT
DTSTART;TZID=America/New_York:20251119T120000
DTEND;TZID=America/New_York:20251119T133000
DTSTAMP:20260420T033808
CREATED:20251015T190949Z
LAST-MODIFIED:20251015T190949Z
UID:2348-1763553600-1763559000@hah.community
SUMMARY:Lunch with Friends
DESCRIPTION:Come join us for Lunch with Friends. Sit and eat with new and old friends\, or pick up a meal to take home. Come for good food and good company. Older\, younger\, all are welcome to take part in the meal and the fun. See you there!
URL:https://hah.community/event/lunch-with-friends-19/
LOCATION:Merriconeag Grange\, 529 Harpswell Neck Rd\, Harpswell\, ME\, 04079\, United States
CATEGORIES:Lunch with Friends,Public Events
ORGANIZER;CN="Julie Moulton":MAILTO:juliemoulton28@gmail.com
END:VEVENT
BEGIN:VEVENT
DTSTART;TZID=America/New_York:20251125T120000
DTEND;TZID=America/New_York:20251125T150000
DTSTAMP:20260420T033808
CREATED:20251117T145424Z
LAST-MODIFIED:20251117T145602Z
UID:2419-1764072000-1764082800@hah.community
SUMMARY:Cooking for Friends (with Friends)
DESCRIPTION:The Cooking for Friends (with Friends) program prepares food for Harpswell Aging at Home’s Meals in a Pinch program from noon to 3 p.m. on Friday\, November 14\, Tuesday\, November 25\, Friday\, December 12 & 26. Cooks meet in the Mid Coast Hunger Prevention Program’s commercial kitchen at 179 Neptune Drive\, Brunswick. Ingredients and recipes supplied. To sign up\, contact Julie Moulton at juliemoulton28@gmail.com or 207-330-5416.
URL:https://hah.community/event/cooking-for-friends-with-friends-23/
LOCATION:179 Neptune Drive\, Brunswick
CATEGORIES:Cooking for Friends (with Friends),Public Events
ORGANIZER;CN="Julie Moulton":MAILTO:juliemoulton28@gmail.com
END:VEVENT
END:VCALENDAR