BEGIN:VCALENDAR
VERSION:2.0
PRODID:-//Harpswell Aging at Home - ECPv6.15.20//NONSGML v1.0//EN
CALSCALE:GREGORIAN
METHOD:PUBLISH
X-WR-CALNAME:Harpswell Aging at Home
X-ORIGINAL-URL:https://hah.community
X-WR-CALDESC:Events for Harpswell Aging at Home
REFRESH-INTERVAL;VALUE=DURATION:PT1H
X-Robots-Tag:noindex
X-PUBLISHED-TTL:PT1H
BEGIN:VTIMEZONE
TZID:America/New_York
BEGIN:DAYLIGHT
TZOFFSETFROM:-0500
TZOFFSETTO:-0400
TZNAME:EDT
DTSTART:20240310T070000
END:DAYLIGHT
BEGIN:STANDARD
TZOFFSETFROM:-0400
TZOFFSETTO:-0500
TZNAME:EST
DTSTART:20241103T060000
END:STANDARD
BEGIN:DAYLIGHT
TZOFFSETFROM:-0500
TZOFFSETTO:-0400
TZNAME:EDT
DTSTART:20250309T070000
END:DAYLIGHT
BEGIN:STANDARD
TZOFFSETFROM:-0400
TZOFFSETTO:-0500
TZNAME:EST
DTSTART:20251102T060000
END:STANDARD
BEGIN:DAYLIGHT
TZOFFSETFROM:-0500
TZOFFSETTO:-0400
TZNAME:EDT
DTSTART:20260308T070000
END:DAYLIGHT
BEGIN:STANDARD
TZOFFSETFROM:-0400
TZOFFSETTO:-0500
TZNAME:EST
DTSTART:20261101T060000
END:STANDARD
END:VTIMEZONE
BEGIN:VEVENT
DTSTART;TZID=America/New_York:20250806T090000
DTEND;TZID=America/New_York:20250806T100000
DTSTAMP:20260422T122437
CREATED:20250616T125212Z
LAST-MODIFIED:20250616T125212Z
UID:2231-1754470800-1754474400@hah.community
SUMMARY:Tai Chi with Steve Ingram
DESCRIPTION:Have you ever wanted to learn Tai Chi? Here’s your chance to start. Join us for this six-week series of classes providing an introduction to this low-impact\, gentle exercise with roots in ancient Chinese martial arts. All ages are welcome and no experience or registration is necessary. Bring water and bug spray. \nThis event will be held every Wednesday morning through August 13 at the Mitchell Field Bandstand or Beach depending on the tide. These classes will be held rain or shine unless there is thunder or lightning. Missed class will be made up on August 20th.
URL:https://hah.community/event/tai-chi-with-steve-ingram-5/
LOCATION:Mitchell Field Bandstand
CATEGORIES:Public Events
END:VEVENT
BEGIN:VEVENT
DTSTART;TZID=America/New_York:20250806T120000
DTEND;TZID=America/New_York:20250806T160000
DTSTAMP:20260422T122437
CREATED:20250616T125505Z
LAST-MODIFIED:20250616T125505Z
UID:2235-1754481600-1754496000@hah.community
SUMMARY:Sharing Tables
DESCRIPTION:Harpswell Aging at Home’s Sharing Tables offer free produce from noon to 4 p.m. every Wednesday during the growing season\, beginning in mid-June\, at the Cundy’s Harbor Church of the Nazarene\, 863 Cundy’s Harbor Road\, Harpswell; Elijah Kellogg Church; and the Orr’s Island Library. Contributions come from Growing to Give\, the Harpswell Community Garden\, and the Mid Coast Hunger Prevention Program\, as well as local gardeners\, who may donate excess vegetables at their nearest Sharing Table.
URL:https://hah.community/event/sharing-tables-51/
LOCATION:Multiple Venues
CATEGORIES:Public Events
END:VEVENT
BEGIN:VEVENT
DTSTART;VALUE=DATE:20250812
DTEND;VALUE=DATE:20250813
DTSTAMP:20260422T122437
CREATED:20250616T130555Z
LAST-MODIFIED:20250616T130555Z
UID:2253-1754956800-1755043199@hah.community
SUMMARY:Meals in a Pinch
DESCRIPTION:Meals in a Pinch runs every other Tuesday and provides four meals to some of our Harpswell neighbors for a variety of reasons. Some are not able to consistently prepare meals because of health\, ability\, or mobility; others have difficulty obtaining food for practical or financial reasons. There is no income qualification–only a recognition that we all need some support at times. Whether an ongoing situation or a temporary need–like after a surgery or illness–Harpswell Aging at Home has meals available. Emergency meals can even be provided on the same day if necessary. Contact: Julie Moulton at juliemoulton28@gmail.com or 330-5416.\nLearn more about the MIP Program
URL:https://hah.community/event/meals-in-a-pinch-80/
CATEGORIES:Public Events
ORGANIZER;CN="Julie Moulton":MAILTO:juliemoulton28@gmail.com
END:VEVENT
BEGIN:VEVENT
DTSTART;TZID=America/New_York:20250813T090000
DTEND;TZID=America/New_York:20250813T100000
DTSTAMP:20260422T122437
CREATED:20250616T125235Z
LAST-MODIFIED:20250616T125235Z
UID:2233-1755075600-1755079200@hah.community
SUMMARY:Tai Chi with Steve Ingram
DESCRIPTION:Have you ever wanted to learn Tai Chi? Here’s your chance to start. Join us for this six-week series of classes providing an introduction to this low-impact\, gentle exercise with roots in ancient Chinese martial arts. All ages are welcome and no experience or registration is necessary. Bring water and bug spray. \nThis event will be held every Wednesday morning through August 13 at the Mitchell Field Bandstand or Beach depending on the tide. These classes will be held rain or shine unless there is thunder or lightning. Missed class will be made up on August 20th.
URL:https://hah.community/event/tai-chi-with-steve-ingram-6/
LOCATION:Mitchell Field Bandstand
CATEGORIES:Public Events
END:VEVENT
BEGIN:VEVENT
DTSTART;TZID=America/New_York:20250813T120000
DTEND;TZID=America/New_York:20250813T160000
DTSTAMP:20260422T122437
CREATED:20250616T130625Z
LAST-MODIFIED:20250616T130625Z
UID:2255-1755086400-1755100800@hah.community
SUMMARY:Sharing Tables
DESCRIPTION:Harpswell Aging at Home’s Sharing Tables offer free produce from noon to 4 p.m. every Wednesday during the growing season\, beginning in mid-June\, at the Cundy’s Harbor Church of the Nazarene\, 863 Cundy’s Harbor Road\, Harpswell; Elijah Kellogg Church; and the Orr’s Island Library. Contributions come from Growing to Give\, the Harpswell Community Garden\, and the Mid Coast Hunger Prevention Program\, as well as local gardeners\, who may donate excess vegetables at their nearest Sharing Table.
URL:https://hah.community/event/sharing-tables-59/
LOCATION:Multiple Venues
CATEGORIES:Public Events
END:VEVENT
BEGIN:VEVENT
DTSTART;TZID=America/New_York:20250820T120000
DTEND;TZID=America/New_York:20250820T160000
DTSTAMP:20260422T122437
CREATED:20250616T130714Z
LAST-MODIFIED:20250616T130714Z
UID:2257-1755691200-1755705600@hah.community
SUMMARY:Sharing Tables
DESCRIPTION:Harpswell Aging at Home’s Sharing Tables offer free produce from noon to 4 p.m. every Wednesday during the growing season\, beginning in mid-June\, at the Cundy’s Harbor Church of the Nazarene\, 863 Cundy’s Harbor Road\, Harpswell; Elijah Kellogg Church; and the Orr’s Island Library. Contributions come from Growing to Give\, the Harpswell Community Garden\, and the Mid Coast Hunger Prevention Program\, as well as local gardeners\, who may donate excess vegetables at their nearest Sharing Table.
URL:https://hah.community/event/sharing-tables-60/
LOCATION:Multiple Venues
CATEGORIES:Public Events
END:VEVENT
BEGIN:VEVENT
DTSTART;VALUE=DATE:20250826
DTEND;VALUE=DATE:20250827
DTSTAMP:20260422T122437
CREATED:20250616T130807Z
LAST-MODIFIED:20250616T130807Z
UID:2259-1756166400-1756252799@hah.community
SUMMARY:Meals in a Pinch
DESCRIPTION:Meals in a Pinch runs every other Tuesday and provides four meals to some of our Harpswell neighbors for a variety of reasons. Some are not able to consistently prepare meals because of health\, ability\, or mobility; others have difficulty obtaining food for practical or financial reasons. There is no income qualification–only a recognition that we all need some support at times. Whether an ongoing situation or a temporary need–like after a surgery or illness–Harpswell Aging at Home has meals available. Emergency meals can even be provided on the same day if necessary. Contact: Julie Moulton at juliemoulton28@gmail.com or 330-5416.\nLearn more about the MIP Program
URL:https://hah.community/event/meals-in-a-pinch-81/
CATEGORIES:Public Events
ORGANIZER;CN="Julie Moulton":MAILTO:juliemoulton28@gmail.com
END:VEVENT
BEGIN:VEVENT
DTSTART;TZID=America/New_York:20250827T120000
DTEND;TZID=America/New_York:20250827T160000
DTSTAMP:20260422T122437
CREATED:20250616T130835Z
LAST-MODIFIED:20250616T130835Z
UID:2261-1756296000-1756310400@hah.community
SUMMARY:Sharing Tables
DESCRIPTION:Harpswell Aging at Home’s Sharing Tables offer free produce from noon to 4 p.m. every Wednesday during the growing season\, beginning in mid-June\, at the Cundy’s Harbor Church of the Nazarene\, 863 Cundy’s Harbor Road\, Harpswell; Elijah Kellogg Church; and the Orr’s Island Library. Contributions come from Growing to Give\, the Harpswell Community Garden\, and the Mid Coast Hunger Prevention Program\, as well as local gardeners\, who may donate excess vegetables at their nearest Sharing Table.
URL:https://hah.community/event/sharing-tables-61/
LOCATION:Multiple Venues
CATEGORIES:Public Events
END:VEVENT
END:VCALENDAR