BEGIN:VCALENDAR
VERSION:2.0
PRODID:-//Harpswell Aging at Home - ECPv6.15.20//NONSGML v1.0//EN
CALSCALE:GREGORIAN
METHOD:PUBLISH
X-WR-CALNAME:Harpswell Aging at Home
X-ORIGINAL-URL:https://hah.community
X-WR-CALDESC:Events for Harpswell Aging at Home
REFRESH-INTERVAL;VALUE=DURATION:PT1H
X-Robots-Tag:noindex
X-PUBLISHED-TTL:PT1H
BEGIN:VTIMEZONE
TZID:America/New_York
BEGIN:DAYLIGHT
TZOFFSETFROM:-0500
TZOFFSETTO:-0400
TZNAME:EDT
DTSTART:20240310T070000
END:DAYLIGHT
BEGIN:STANDARD
TZOFFSETFROM:-0400
TZOFFSETTO:-0500
TZNAME:EST
DTSTART:20241103T060000
END:STANDARD
BEGIN:DAYLIGHT
TZOFFSETFROM:-0500
TZOFFSETTO:-0400
TZNAME:EDT
DTSTART:20250309T070000
END:DAYLIGHT
BEGIN:STANDARD
TZOFFSETFROM:-0400
TZOFFSETTO:-0500
TZNAME:EST
DTSTART:20251102T060000
END:STANDARD
BEGIN:DAYLIGHT
TZOFFSETFROM:-0500
TZOFFSETTO:-0400
TZNAME:EDT
DTSTART:20260308T070000
END:DAYLIGHT
BEGIN:STANDARD
TZOFFSETFROM:-0400
TZOFFSETTO:-0500
TZNAME:EST
DTSTART:20261101T060000
END:STANDARD
END:VTIMEZONE
BEGIN:VEVENT
DTSTART;VALUE=DATE:20250701
DTEND;VALUE=DATE:20250702
DTSTAMP:20260422T141613
CREATED:20250512T134930Z
LAST-MODIFIED:20250512T134930Z
UID:2200-1751328000-1751414399@hah.community
SUMMARY:Meals in a Pinch
DESCRIPTION:Meals in a Pinch runs every other Tuesday and provides four meals to some of our Harpswell neighbors for a variety of reasons. Some are not able to consistently prepare meals because of health\, ability\, or mobility; others have difficulty obtaining food for practical or financial reasons. There is no income qualification–only a recognition that we all need some support at times. Whether an ongoing situation or a temporary need–like after a surgery or illness–Harpswell Aging at Home has meals available. Emergency meals can even be provided on the same day if necessary. Contact: Julie Moulton at juliemoulton28@gmail.com or 330-5416.\nLearn more about the MIP Program
URL:https://hah.community/event/meals-in-a-pinch-77/
CATEGORIES:Public Events
ORGANIZER;CN="Julie Moulton":MAILTO:juliemoulton28@gmail.com
END:VEVENT
BEGIN:VEVENT
DTSTART;TZID=America/New_York:20250702T120000
DTEND;TZID=America/New_York:20250702T160000
DTSTAMP:20260422T141613
CREATED:20250616T125948Z
LAST-MODIFIED:20250616T125948Z
UID:2243-1751457600-1751472000@hah.community
SUMMARY:Sharing Tables
DESCRIPTION:Harpswell Aging at Home’s Sharing Tables offer free produce from noon to 4 p.m. every Wednesday during the growing season\, beginning in mid-June\, at the Cundy’s Harbor Church of the Nazarene\, 863 Cundy’s Harbor Road\, Harpswell; Elijah Kellogg Church; and the Orr’s Island Library. Contributions come from Growing to Give\, the Harpswell Community Garden\, and the Mid Coast Hunger Prevention Program\, as well as local gardeners\, who may donate excess vegetables at their nearest Sharing Table.
URL:https://hah.community/event/sharing-tables-54/
LOCATION:Multiple Venues
CATEGORIES:Public Events
END:VEVENT
BEGIN:VEVENT
DTSTART;TZID=America/New_York:20250709T090000
DTEND;TZID=America/New_York:20250709T100000
DTSTAMP:20260422T141613
CREATED:20250616T124726Z
LAST-MODIFIED:20250616T124726Z
UID:2219-1752051600-1752055200@hah.community
SUMMARY:Tai Chi with Steve Ingram
DESCRIPTION:Have you ever wanted to learn Tai Chi? Here’s your chance to start. Join us for this six-week series of classes providing an introduction to this low-impact\, gentle exercise with roots in ancient Chinese martial arts. All ages are welcome and no experience or registration is necessary. Bring water and bug spray. \nThis event will be held every Wednesday morning through August 13 at the Mitchell Field Bandstand or Beach depending on the tide. These classes will be held rain or shine unless there is thunder or lightning. Missed class will be made up on August 20th.
URL:https://hah.community/event/tai-chi-with-steve-ingram/
LOCATION:Mitchell Field Bandstand
CATEGORIES:Public Events
END:VEVENT
BEGIN:VEVENT
DTSTART;TZID=America/New_York:20250709T120000
DTEND;TZID=America/New_York:20250709T160000
DTSTAMP:20260422T141613
CREATED:20250616T130106Z
LAST-MODIFIED:20250616T130106Z
UID:2245-1752062400-1752076800@hah.community
SUMMARY:Sharing Tables
DESCRIPTION:Harpswell Aging at Home’s Sharing Tables offer free produce from noon to 4 p.m. every Wednesday during the growing season\, beginning in mid-June\, at the Cundy’s Harbor Church of the Nazarene\, 863 Cundy’s Harbor Road\, Harpswell; Elijah Kellogg Church; and the Orr’s Island Library. Contributions come from Growing to Give\, the Harpswell Community Garden\, and the Mid Coast Hunger Prevention Program\, as well as local gardeners\, who may donate excess vegetables at their nearest Sharing Table.
URL:https://hah.community/event/sharing-tables-55/
LOCATION:Multiple Venues
CATEGORIES:Public Events
END:VEVENT
BEGIN:VEVENT
DTSTART;VALUE=DATE:20250715
DTEND;VALUE=DATE:20250716
DTSTAMP:20260422T141613
CREATED:20250512T135056Z
LAST-MODIFIED:20250512T135056Z
UID:2202-1752537600-1752623999@hah.community
SUMMARY:Meals in a Pinch
DESCRIPTION:Meals in a Pinch runs every other Tuesday and provides four meals to some of our Harpswell neighbors for a variety of reasons. Some are not able to consistently prepare meals because of health\, ability\, or mobility; others have difficulty obtaining food for practical or financial reasons. There is no income qualification–only a recognition that we all need some support at times. Whether an ongoing situation or a temporary need–like after a surgery or illness–Harpswell Aging at Home has meals available. Emergency meals can even be provided on the same day if necessary. Contact: Julie Moulton at juliemoulton28@gmail.com or 330-5416.\nLearn more about the MIP Program
URL:https://hah.community/event/meals-in-a-pinch-78/
CATEGORIES:Public Events
ORGANIZER;CN="Julie Moulton":MAILTO:juliemoulton28@gmail.com
END:VEVENT
BEGIN:VEVENT
DTSTART;TZID=America/New_York:20250716T090000
DTEND;TZID=America/New_York:20250716T100000
DTSTAMP:20260422T141613
CREATED:20250616T124812Z
LAST-MODIFIED:20250616T124812Z
UID:2223-1752656400-1752660000@hah.community
SUMMARY:Tai Chi with Steve Ingram
DESCRIPTION:Have you ever wanted to learn Tai Chi? Here’s your chance to start. Join us for this six-week series of classes providing an introduction to this low-impact\, gentle exercise with roots in ancient Chinese martial arts. All ages are welcome and no experience or registration is necessary. Bring water and bug spray. \nThis event will be held every Wednesday morning through August 13 at the Mitchell Field Bandstand or Beach depending on the tide. These classes will be held rain or shine unless there is thunder or lightning. Missed class will be made up on August 20th.
URL:https://hah.community/event/tai-chi-with-steve-ingram-2/
LOCATION:Mitchell Field Bandstand
CATEGORIES:Public Events
END:VEVENT
BEGIN:VEVENT
DTSTART;TZID=America/New_York:20250716T120000
DTEND;TZID=America/New_York:20250716T160000
DTSTAMP:20260422T141613
CREATED:20250616T130220Z
LAST-MODIFIED:20250616T130220Z
UID:2247-1752667200-1752681600@hah.community
SUMMARY:Sharing Tables
DESCRIPTION:Harpswell Aging at Home’s Sharing Tables offer free produce from noon to 4 p.m. every Wednesday during the growing season\, beginning in mid-June\, at the Cundy’s Harbor Church of the Nazarene\, 863 Cundy’s Harbor Road\, Harpswell; Elijah Kellogg Church; and the Orr’s Island Library. Contributions come from Growing to Give\, the Harpswell Community Garden\, and the Mid Coast Hunger Prevention Program\, as well as local gardeners\, who may donate excess vegetables at their nearest Sharing Table.
URL:https://hah.community/event/sharing-tables-56/
LOCATION:Multiple Venues
CATEGORIES:Public Events
END:VEVENT
BEGIN:VEVENT
DTSTART;TZID=America/New_York:20250723T090000
DTEND;TZID=America/New_York:20250723T100000
DTSTAMP:20260422T141613
CREATED:20250616T124858Z
LAST-MODIFIED:20250616T124858Z
UID:2225-1753261200-1753264800@hah.community
SUMMARY:Tai Chi with Steve Ingram
DESCRIPTION:Have you ever wanted to learn Tai Chi? Here’s your chance to start. Join us for this six-week series of classes providing an introduction to this low-impact\, gentle exercise with roots in ancient Chinese martial arts. All ages are welcome and no experience or registration is necessary. Bring water and bug spray. \nThis event will be held every Wednesday morning through August 13 at the Mitchell Field Bandstand or Beach depending on the tide. These classes will be held rain or shine unless there is thunder or lightning. Missed class will be made up on August 20th.
URL:https://hah.community/event/tai-chi-with-steve-ingram-3/
LOCATION:Mitchell Field Bandstand
CATEGORIES:Public Events
END:VEVENT
BEGIN:VEVENT
DTSTART;TZID=America/New_York:20250723T120000
DTEND;TZID=America/New_York:20250723T160000
DTSTAMP:20260422T141613
CREATED:20250616T130323Z
LAST-MODIFIED:20250616T130323Z
UID:2249-1753272000-1753286400@hah.community
SUMMARY:Sharing Tables
DESCRIPTION:Harpswell Aging at Home’s Sharing Tables offer free produce from noon to 4 p.m. every Wednesday during the growing season\, beginning in mid-June\, at the Cundy’s Harbor Church of the Nazarene\, 863 Cundy’s Harbor Road\, Harpswell; Elijah Kellogg Church; and the Orr’s Island Library. Contributions come from Growing to Give\, the Harpswell Community Garden\, and the Mid Coast Hunger Prevention Program\, as well as local gardeners\, who may donate excess vegetables at their nearest Sharing Table.
URL:https://hah.community/event/sharing-tables-57/
LOCATION:Multiple Venues
CATEGORIES:Public Events
END:VEVENT
BEGIN:VEVENT
DTSTART;VALUE=DATE:20250729
DTEND;VALUE=DATE:20250730
DTSTAMP:20260422T141613
CREATED:20250512T135213Z
LAST-MODIFIED:20250512T135213Z
UID:2204-1753747200-1753833599@hah.community
SUMMARY:Meals in a Pinch
DESCRIPTION:Meals in a Pinch runs every other Tuesday and provides four meals to some of our Harpswell neighbors for a variety of reasons. Some are not able to consistently prepare meals because of health\, ability\, or mobility; others have difficulty obtaining food for practical or financial reasons. There is no income qualification–only a recognition that we all need some support at times. Whether an ongoing situation or a temporary need–like after a surgery or illness–Harpswell Aging at Home has meals available. Emergency meals can even be provided on the same day if necessary. Contact: Julie Moulton at juliemoulton28@gmail.com or 330-5416.\nLearn more about the MIP Program
URL:https://hah.community/event/meals-in-a-pinch-79/
CATEGORIES:Public Events
ORGANIZER;CN="Julie Moulton":MAILTO:juliemoulton28@gmail.com
END:VEVENT
BEGIN:VEVENT
DTSTART;TZID=America/New_York:20250730T090000
DTEND;TZID=America/New_York:20250730T100000
DTSTAMP:20260422T141613
CREATED:20250616T124934Z
LAST-MODIFIED:20250616T124934Z
UID:2227-1753866000-1753869600@hah.community
SUMMARY:Tai Chi with Steve Ingram
DESCRIPTION:Have you ever wanted to learn Tai Chi? Here’s your chance to start. Join us for this six-week series of classes providing an introduction to this low-impact\, gentle exercise with roots in ancient Chinese martial arts. All ages are welcome and no experience or registration is necessary. Bring water and bug spray. \nThis event will be held every Wednesday morning through August 13 at the Mitchell Field Bandstand or Beach depending on the tide. These classes will be held rain or shine unless there is thunder or lightning. Missed class will be made up on August 20th.
URL:https://hah.community/event/tai-chi-with-steve-ingram-4/
LOCATION:Mitchell Field Bandstand
CATEGORIES:Public Events
END:VEVENT
BEGIN:VEVENT
DTSTART;TZID=America/New_York:20250730T120000
DTEND;TZID=America/New_York:20250730T160000
DTSTAMP:20260422T141613
CREATED:20250616T130415Z
LAST-MODIFIED:20250616T130415Z
UID:2251-1753876800-1753891200@hah.community
SUMMARY:Sharing Tables
DESCRIPTION:Harpswell Aging at Home’s Sharing Tables offer free produce from noon to 4 p.m. every Wednesday during the growing season\, beginning in mid-June\, at the Cundy’s Harbor Church of the Nazarene\, 863 Cundy’s Harbor Road\, Harpswell; Elijah Kellogg Church; and the Orr’s Island Library. Contributions come from Growing to Give\, the Harpswell Community Garden\, and the Mid Coast Hunger Prevention Program\, as well as local gardeners\, who may donate excess vegetables at their nearest Sharing Table.
URL:https://hah.community/event/sharing-tables-58/
LOCATION:Multiple Venues
CATEGORIES:Public Events
END:VEVENT
END:VCALENDAR