BEGIN:VCALENDAR
VERSION:2.0
PRODID:-//Harpswell Aging at Home - ECPv6.15.20//NONSGML v1.0//EN
CALSCALE:GREGORIAN
METHOD:PUBLISH
X-ORIGINAL-URL:https://hah.community
X-WR-CALDESC:Events for Harpswell Aging at Home
REFRESH-INTERVAL;VALUE=DURATION:PT1H
X-Robots-Tag:noindex
X-PUBLISHED-TTL:PT1H
BEGIN:VTIMEZONE
TZID:America/New_York
BEGIN:DAYLIGHT
TZOFFSETFROM:-0500
TZOFFSETTO:-0400
TZNAME:EDT
DTSTART:20240310T070000
END:DAYLIGHT
BEGIN:STANDARD
TZOFFSETFROM:-0400
TZOFFSETTO:-0500
TZNAME:EST
DTSTART:20241103T060000
END:STANDARD
BEGIN:DAYLIGHT
TZOFFSETFROM:-0500
TZOFFSETTO:-0400
TZNAME:EDT
DTSTART:20250309T070000
END:DAYLIGHT
BEGIN:STANDARD
TZOFFSETFROM:-0400
TZOFFSETTO:-0500
TZNAME:EST
DTSTART:20251102T060000
END:STANDARD
BEGIN:DAYLIGHT
TZOFFSETFROM:-0500
TZOFFSETTO:-0400
TZNAME:EDT
DTSTART:20260308T070000
END:DAYLIGHT
BEGIN:STANDARD
TZOFFSETFROM:-0400
TZOFFSETTO:-0500
TZNAME:EST
DTSTART:20261101T060000
END:STANDARD
END:VTIMEZONE
BEGIN:VEVENT
DTSTART;VALUE=DATE:20250506
DTEND;VALUE=DATE:20250507
DTSTAMP:20260422T172911
CREATED:20250331T135211Z
LAST-MODIFIED:20250407T145643Z
UID:2155-1746489600-1746575999@hah.community
SUMMARY:Meals in a Pinch
DESCRIPTION:Meals in a Pinch runs every other Tuesday and provides four meals to some of our Harpswell neighbors for a variety of reasons. Some are not able to consistently prepare meals because of health\, ability\, or mobility; others have difficulty obtaining food for practical or financial reasons. There is no income qualification–only a recognition that we all need some support at times. Whether an ongoing situation or a temporary need–like after a surgery or illness–Harpswell Aging at Home has meals available. Emergency meals can even be provided on the same day if necessary. Contact: Julie Moulton at juliemoulton28@gmail.com or 330-5416.\nLearn more about the MIP Program
URL:https://hah.community/event/meals-in-a-pinch-73/
CATEGORIES:Public Events
ORGANIZER;CN="Julie Moulton":MAILTO:juliemoulton28@gmail.com
END:VEVENT
BEGIN:VEVENT
DTSTART;TZID=America/New_York:20250508T133000
DTEND;TZID=America/New_York:20250508T150000
DTSTAMP:20260422T172911
CREATED:20250422T221636Z
LAST-MODIFIED:20250422T221636Z
UID:2173-1746711000-1746716400@hah.community
SUMMARY:Cooking at 43° North presents: It's Mexican Fiesta Time
DESCRIPTION:We’re celebrating Cinco de Mayo a few days late–but do come join us for a Mexican fiesta cooking demonstration. Watch and learn as we craft zesty pico de gallo\, creamy guacamole\, and flavorful chicken mole enchiladas right before your eyes. Immerse yourself in the art of Mexican cuisine\, gain valuable tips and techniques\, and enjoy the vibrant aromas and flavors of these classic dishes. Perfect for food enthusiasts of all skill levels\, this session is a fun way to connect\, celebrate\, and explore the world of authentic Mexican cooking. Sign up by emailing juliemoulton28@gmail.com or text/call 207-330-5416 by May 7.
URL:https://hah.community/event/cooking-at-43-north-presents-its-mexican-fiesta-time/
LOCATION:Merriconeag Grange\, 529 Harpswell Neck Rd\, Harpswell\, ME\, 04079\, United States
CATEGORIES:Cooking at 43º North,Public Events
ORGANIZER;CN="Julie Moulton":MAILTO:juliemoulton28@gmail.com
END:VEVENT
BEGIN:VEVENT
DTSTART;TZID=America/New_York:20250514T120000
DTEND;TZID=America/New_York:20250514T133000
DTSTAMP:20260422T172911
CREATED:20250416T133148Z
LAST-MODIFIED:20250416T133551Z
UID:2161-1747224000-1747229400@hah.community
SUMMARY:Harpswell ROMEOs (Retired Older Men Eating Out) Lunch and Program
DESCRIPTION:Join Harpswell Aging at Home’s ROMEOs for lunch and a special program (details to come) with new and old friends. Lunch is provided. The event is free but registration is required due to limited seating. To register and for additional info\, contact Tom Mahoney at oldermeneatingout@gmail.com.
URL:https://hah.community/event/harpswell-romeos-retired-older-men-eating-out-lunch-and-program/
LOCATION:Merriconeag Grange\, 529 Harpswell Neck Rd\, Harpswell\, ME\, 04079\, United States
CATEGORIES:Harpswell ROMEOs,Public Events
ORGANIZER;CN="HAH":MAILTO:hah@hah.community
END:VEVENT
BEGIN:VEVENT
DTSTART;TZID=America/New_York:20250516T120000
DTEND;TZID=America/New_York:20250516T150000
DTSTAMP:20260422T172911
CREATED:20250512T134204Z
LAST-MODIFIED:20250512T134251Z
UID:2192-1747396800-1747407600@hah.community
SUMMARY:Cooking for Friends (with Friends)
DESCRIPTION:The Cooking for Friends (with Friends) program prepares food for Harpswell Aging at Home’s Meals in a Pinch program from noon to 3 p.m. on May 2\, 16\, and 30. Cooks meet in the Mid Coast Hunger Prevention Program’s commercial kitchen at 179 Neptune Drive\, Brunswick. Ingredients and recipes supplied. To sign up\, contact Julie Moulton at juliemoulton28@gmail.com or 207-330-5416.
URL:https://hah.community/event/cooking-for-friends-with-friends-20/
LOCATION:179 Neptune Drive\, Brunswick
CATEGORIES:Cooking for Friends (with Friends),Public Events
ORGANIZER;CN="Julie Moulton":MAILTO:juliemoulton28@gmail.com
END:VEVENT
BEGIN:VEVENT
DTSTART;TZID=America/New_York:20250517T100000
DTEND;TZID=America/New_York:20250517T120000
DTSTAMP:20260422T172911
CREATED:20250416T133521Z
LAST-MODIFIED:20250422T221248Z
UID:2163-1747476000-1747483200@hah.community
SUMMARY:Harpswell Repair Cafe
DESCRIPTION:The Repair Café is a place where you can get help repairing your beloved or useful everyday items rather than throw them away. It is free and open to anyone\, regardless of age or income. Bring your item and let your Harpswell neighbors lend a hand with these (and other) repairs: small electronics\, lamps\, wooden furniture\, jewelry\, sewing and knitting\, as well as computer/tech assistance\, knife sharpening\, sewing machine cleaning/oiling\, and soldering. If you have any questions about your item\, please contact Martha Israel at marthaisraelhah@gmail.com or (207) 841-0949. \nView the flyer
URL:https://hah.community/event/harpswell-repair-cafe/
LOCATION:Harpswell Town Office\, 263 Mountain Road\, Harpswell\, ME\, 04079\, United States
CATEGORIES:Public Events,Repair Cafe
ORGANIZER;CN="Julie Moulton":MAILTO:juliemoulton28@gmail.com
END:VEVENT
BEGIN:VEVENT
DTSTART;VALUE=DATE:20250520
DTEND;VALUE=DATE:20250521
DTSTAMP:20260422T172911
CREATED:20250331T135323Z
LAST-MODIFIED:20250407T145630Z
UID:2157-1747699200-1747785599@hah.community
SUMMARY:Meals in a Pinch
DESCRIPTION:Meals in a Pinch runs every other Tuesday and provides four meals to some of our Harpswell neighbors for a variety of reasons. Some are not able to consistently prepare meals because of health\, ability\, or mobility; others have difficulty obtaining food for practical or financial reasons. There is no income qualification–only a recognition that we all need some support at times. Whether an ongoing situation or a temporary need–like after a surgery or illness–Harpswell Aging at Home has meals available. Emergency meals can even be provided on the same day if necessary. Contact: Julie Moulton at juliemoulton28@gmail.com or 330-5416.\nLearn more about the MIP Program
URL:https://hah.community/event/meals-in-a-pinch-74/
CATEGORIES:Public Events
ORGANIZER;CN="Julie Moulton":MAILTO:juliemoulton28@gmail.com
END:VEVENT
BEGIN:VEVENT
DTSTART;TZID=America/New_York:20250530T120000
DTEND;TZID=America/New_York:20250530T150000
DTSTAMP:20260422T172911
CREATED:20250512T134330Z
LAST-MODIFIED:20250512T134330Z
UID:2194-1748606400-1748617200@hah.community
SUMMARY:Cooking for Friends (with Friends)
DESCRIPTION:The Cooking for Friends (with Friends) program prepares food for Harpswell Aging at Home’s Meals in a Pinch program from noon to 3 p.m. on May 2\, 16\, and 30. Cooks meet in the Mid Coast Hunger Prevention Program’s commercial kitchen at 179 Neptune Drive\, Brunswick. Ingredients and recipes supplied. To sign up\, contact Julie Moulton at juliemoulton28@gmail.com or 207-330-5416.
URL:https://hah.community/event/cooking-for-friends-with-friends-21/
LOCATION:179 Neptune Drive\, Brunswick
CATEGORIES:Cooking for Friends (with Friends),Public Events
ORGANIZER;CN="Julie Moulton":MAILTO:juliemoulton28@gmail.com
END:VEVENT
END:VCALENDAR