BEGIN:VCALENDAR
VERSION:2.0
PRODID:-//Harpswell Aging at Home - ECPv6.15.20//NONSGML v1.0//EN
CALSCALE:GREGORIAN
METHOD:PUBLISH
X-ORIGINAL-URL:https://hah.community
X-WR-CALDESC:Events for Harpswell Aging at Home
REFRESH-INTERVAL;VALUE=DURATION:PT1H
X-Robots-Tag:noindex
X-PUBLISHED-TTL:PT1H
BEGIN:VTIMEZONE
TZID:America/New_York
BEGIN:DAYLIGHT
TZOFFSETFROM:-0500
TZOFFSETTO:-0400
TZNAME:EDT
DTSTART:20230312T070000
END:DAYLIGHT
BEGIN:STANDARD
TZOFFSETFROM:-0400
TZOFFSETTO:-0500
TZNAME:EST
DTSTART:20231105T060000
END:STANDARD
BEGIN:DAYLIGHT
TZOFFSETFROM:-0500
TZOFFSETTO:-0400
TZNAME:EDT
DTSTART:20240310T070000
END:DAYLIGHT
BEGIN:STANDARD
TZOFFSETFROM:-0400
TZOFFSETTO:-0500
TZNAME:EST
DTSTART:20241103T060000
END:STANDARD
BEGIN:DAYLIGHT
TZOFFSETFROM:-0500
TZOFFSETTO:-0400
TZNAME:EDT
DTSTART:20250309T070000
END:DAYLIGHT
BEGIN:STANDARD
TZOFFSETFROM:-0400
TZOFFSETTO:-0500
TZNAME:EST
DTSTART:20251102T060000
END:STANDARD
END:VTIMEZONE
BEGIN:VEVENT
DTSTART;TZID=America/New_York:20240827T100000
DTEND;TZID=America/New_York:20240827T120000
DTSTAMP:20260419T154816
CREATED:20240617T134030Z
LAST-MODIFIED:20240617T134030Z
UID:1806-1724752800-1724760000@hah.community
SUMMARY:Meals in a Pinch
DESCRIPTION:Meals in a Pinch runs every other Tuesday and provides four meals to some of our Harpswell neighbors for a variety of reasons. Some are not able to consistently prepare meals because of health\, ability\, or mobility; others have difficulty obtaining food for practical or financial reasons. There is no income qualification–only a recognition that we all need some support at times. Whether an ongoing situation or a temporary need–like after a surgery or illness–Harpswell Aging at Home has meals available. Emergency meals can even be provided on the same day if necessary. Contact: Julie Moulton at juliemoulton28@gmail.com or 330-5416.\n\nLearn more about the MIP Program
URL:https://hah.community/event/meals-in-a-pinch-55/
LOCATION:ME
CATEGORIES:Public Events
ORGANIZER;CN="Julie Moulton":MAILTO:juliemoulton28@gmail.com
END:VEVENT
BEGIN:VEVENT
DTSTART;TZID=America/New_York:20240828T130000
DTEND;TZID=America/New_York:20240828T160000
DTSTAMP:20260419T154816
CREATED:20240722T134723Z
LAST-MODIFIED:20240722T134723Z
UID:1844-1724850000-1724860800@hah.community
SUMMARY:Sharing Tables
DESCRIPTION:Sharing Tables brings an array of produce to three locations in Harpswell from 1-4 p.m. (or as long as it lasts) every Wednesday from June 12th through October. Produce is free to anyone who will use it. Gardeners can leave excess produce for others. Find tables at the Cundy’s Harbor Community Church of the Nazarene\, 863 Cundy’s Harbor Road; Elijah Kellogg Church\, 917 Harpswell Neck Road; and Orr’s Island Library\, 1699 Harpswell Islands Road. Please don’t arrive before 1 pm to allow volunteers the chance to set the produce out.
URL:https://hah.community/event/sharing-tables-41/
LOCATION:Multiple Venues
CATEGORIES:Public Events
END:VEVENT
BEGIN:VEVENT
DTSTART;TZID=America/New_York:20240904T130000
DTEND;TZID=America/New_York:20240904T160000
DTSTAMP:20260419T154816
CREATED:20240722T134746Z
LAST-MODIFIED:20240722T134746Z
UID:1846-1725454800-1725465600@hah.community
SUMMARY:Sharing Tables
DESCRIPTION:Sharing Tables brings an array of produce to three locations in Harpswell from 1-4 p.m. (or as long as it lasts) every Wednesday from June 12th through October. Produce is free to anyone who will use it. Gardeners can leave excess produce for others. Find tables at the Cundy’s Harbor Community Church of the Nazarene\, 863 Cundy’s Harbor Road; Elijah Kellogg Church\, 917 Harpswell Neck Road; and Orr’s Island Library\, 1699 Harpswell Islands Road. Please don’t arrive before 1 pm to allow volunteers the chance to set the produce out.
URL:https://hah.community/event/sharing-tables-42/
LOCATION:Multiple Venues
CATEGORIES:Public Events
END:VEVENT
BEGIN:VEVENT
DTSTART;TZID=America/New_York:20240906T120000
DTEND;TZID=America/New_York:20240906T150000
DTSTAMP:20260419T154816
CREATED:20240722T134903Z
LAST-MODIFIED:20240722T134903Z
UID:1848-1725624000-1725634800@hah.community
SUMMARY:Cooking for Friends (with Friends)
DESCRIPTION:The Cooking for Friends (with Friends) program prepares food for Harpswell Aging at Home’s Meals in a Pinch program from 12-3 p.m. one Friday a month. Cooks meet in the Mid Coast Hunger Prevention Program’s commercial kitchen at 179 Neptune Drive\, Brunswick. HAH supplies ingredients and recipes. To sign up\, contact Julie Moulton\, juliemoulton28@gmail.com or 207-330-5416.
URL:https://hah.community/event/cooking-for-friends-with-friends-6/
LOCATION:179 Neptune Drive\, Brunswick
CATEGORIES:Public Events
ORGANIZER;CN="Julie Moulton":MAILTO:juliemoulton28@gmail.com
END:VEVENT
BEGIN:VEVENT
DTSTART;TZID=America/New_York:20240910T100000
DTEND;TZID=America/New_York:20240910T120000
DTSTAMP:20260419T154816
CREATED:20240722T134956Z
LAST-MODIFIED:20240722T134956Z
UID:1850-1725962400-1725969600@hah.community
SUMMARY:Meals in a Pinch
DESCRIPTION:Meals in a Pinch runs every other Tuesday and provides four meals to some of our Harpswell neighbors for a variety of reasons. Some are not able to consistently prepare meals because of health\, ability\, or mobility; others have difficulty obtaining food for practical or financial reasons. There is no income qualification–only a recognition that we all need some support at times. Whether an ongoing situation or a temporary need–like after a surgery or illness–Harpswell Aging at Home has meals available. Emergency meals can even be provided on the same day if necessary. Contact: Julie Moulton at juliemoulton28@gmail.com or 330-5416.\n\nLearn more about the MIP Program
URL:https://hah.community/event/meals-in-a-pinch-56/
LOCATION:ME
CATEGORIES:Public Events
ORGANIZER;CN="Julie Moulton":MAILTO:juliemoulton28@gmail.com
END:VEVENT
BEGIN:VEVENT
DTSTART;TZID=America/New_York:20240911T130000
DTEND;TZID=America/New_York:20240911T160000
DTSTAMP:20260419T154816
CREATED:20240722T135022Z
LAST-MODIFIED:20240722T135022Z
UID:1852-1726059600-1726070400@hah.community
SUMMARY:Sharing Tables
DESCRIPTION:Sharing Tables brings an array of produce to three locations in Harpswell from 1-4 p.m. (or as long as it lasts) every Wednesday from June 12th through October. Produce is free to anyone who will use it. Gardeners can leave excess produce for others. Find tables at the Cundy’s Harbor Community Church of the Nazarene\, 863 Cundy’s Harbor Road; Elijah Kellogg Church\, 917 Harpswell Neck Road; and Orr’s Island Library\, 1699 Harpswell Islands Road. Please don’t arrive before 1 pm to allow volunteers the chance to set the produce out.
URL:https://hah.community/event/sharing-tables-43/
LOCATION:Multiple Venues
CATEGORIES:Public Events
END:VEVENT
BEGIN:VEVENT
DTSTART;TZID=America/New_York:20240918T130000
DTEND;TZID=America/New_York:20240918T160000
DTSTAMP:20260419T154816
CREATED:20240722T135118Z
LAST-MODIFIED:20240722T135118Z
UID:1854-1726664400-1726675200@hah.community
SUMMARY:Sharing Tables
DESCRIPTION:Sharing Tables brings an array of produce to three locations in Harpswell from 1-4 p.m. (or as long as it lasts) every Wednesday from June 12th through October. Produce is free to anyone who will use it. Gardeners can leave excess produce for others. Find tables at the Cundy’s Harbor Community Church of the Nazarene\, 863 Cundy’s Harbor Road; Elijah Kellogg Church\, 917 Harpswell Neck Road; and Orr’s Island Library\, 1699 Harpswell Islands Road. Please don’t arrive before 1 pm to allow volunteers the chance to set the produce out.
URL:https://hah.community/event/sharing-tables-44/
LOCATION:Multiple Venues
CATEGORIES:Public Events
END:VEVENT
BEGIN:VEVENT
DTSTART;TZID=America/New_York:20240920T120000
DTEND;TZID=America/New_York:20240920T150000
DTSTAMP:20260419T154816
CREATED:20240801T123138Z
LAST-MODIFIED:20240916T122611Z
UID:1865-1726833600-1726844400@hah.community
SUMMARY:Cooking for Friends (with Friends)
DESCRIPTION:The Cooking for Friends (with Friends) program prepares food for Harpswell Aging at Home’s Meals in a Pinch program from 12-3 p.m. one Friday a month. Cooks meet in the Mid Coast Hunger Prevention Program’s commercial kitchen at 179 Neptune Drive\, Brunswick. HAH supplies ingredients and recipes. To sign up\, contact Julie Moulton\, juliemoulton28@gmail.com or 207-330-5416.
URL:https://hah.community/event/cooking-for-friends-with-friends-7/
LOCATION:179 Neptune Drive\, Brunswick
CATEGORIES:Public Events
ORGANIZER;CN="Julie Moulton":MAILTO:juliemoulton28@gmail.com
END:VEVENT
BEGIN:VEVENT
DTSTART;TZID=America/New_York:20240924T100000
DTEND;TZID=America/New_York:20240924T120000
DTSTAMP:20260419T154816
CREATED:20240722T135144Z
LAST-MODIFIED:20240722T135144Z
UID:1856-1727172000-1727179200@hah.community
SUMMARY:Meals in a Pinch
DESCRIPTION:Meals in a Pinch runs every other Tuesday and provides four meals to some of our Harpswell neighbors for a variety of reasons. Some are not able to consistently prepare meals because of health\, ability\, or mobility; others have difficulty obtaining food for practical or financial reasons. There is no income qualification–only a recognition that we all need some support at times. Whether an ongoing situation or a temporary need–like after a surgery or illness–Harpswell Aging at Home has meals available. Emergency meals can even be provided on the same day if necessary. Contact: Julie Moulton at juliemoulton28@gmail.com or 330-5416.\n\nLearn more about the MIP Program
URL:https://hah.community/event/meals-in-a-pinch-57/
LOCATION:ME
CATEGORIES:Public Events
ORGANIZER;CN="Julie Moulton":MAILTO:juliemoulton28@gmail.com
END:VEVENT
BEGIN:VEVENT
DTSTART;TZID=America/New_York:20240925T130000
DTEND;TZID=America/New_York:20240925T160000
DTSTAMP:20260419T154816
CREATED:20240722T135208Z
LAST-MODIFIED:20240916T122559Z
UID:1858-1727269200-1727280000@hah.community
SUMMARY:Sharing Tables
DESCRIPTION:Sharing Tables brings an array of produce to three locations in Harpswell from 1-4 p.m. (or as long as it lasts) every Wednesday from June 12th through October. Produce is free to anyone who will use it. Gardeners can leave excess produce for others. Find tables at the Cundy’s Harbor Community Church of the Nazarene\, 863 Cundy’s Harbor Road; Elijah Kellogg Church\, 917 Harpswell Neck Road; and Orr’s Island Library\, 1699 Harpswell Islands Road. Please don’t arrive before 1 pm to allow volunteers the chance to set the produce out.
URL:https://hah.community/event/sharing-tables-45/
LOCATION:Multiple Venues
CATEGORIES:Public Events
END:VEVENT
BEGIN:VEVENT
DTSTART;TZID=America/New_York:20240926T100000
DTEND;TZID=America/New_York:20240926T120000
DTSTAMP:20260419T154816
CREATED:20240910T192453Z
LAST-MODIFIED:20240916T122227Z
UID:1887-1727344800-1727352000@hah.community
SUMMARY:Cooking at 43º North presents: Relish Your Canning
DESCRIPTION:Come experience different types of canning processes while making relish and learning the dos and don’ts of putting food up safely. Please let us know you are coming by emailing Julie Moulton\, juliemoulton28@gmail.com or text/call 207- 330-5416‬ by September 23.
URL:https://hah.community/event/cooking-at-43o-north-presents-relish-your-canning/
LOCATION:Orr’s Island Schoolhouse\, 1594 Harpswell Islands Road\, Orr's Island\, ME\, 04066\, United States
CATEGORIES:Cooking at 43º North,Public Events
ORGANIZER;CN="Julie Moulton":MAILTO:juliemoulton28@gmail.com
END:VEVENT
BEGIN:VEVENT
DTSTART;TZID=America/New_York:20241001T120000
DTEND;TZID=America/New_York:20241001T130000
DTSTAMP:20260419T154816
CREATED:20240910T192143Z
LAST-MODIFIED:20240916T122305Z
UID:1885-1727784000-1727787600@hah.community
SUMMARY:Lunch with Friends
DESCRIPTION:Join your friends at Lunch with Friends at the Orr’s Island Schoolhouse. You may come pick up a lunch to take home\, or sit and eat with new and old friends\, depending on your comfort level. Come for good food and good company. Everyone is welcome to take part in the meal and the fun. See you there!
URL:https://hah.community/event/lunch-with-friends-11/
LOCATION:Orr’s Island Schoolhouse\, 1594 Harpswell Islands Road\, Orr's Island\, ME\, 04066\, United States
CATEGORIES:Lunch with Friends,Public Events
ORGANIZER;CN="Julie Moulton":MAILTO:juliemoulton28@gmail.com
END:VEVENT
BEGIN:VEVENT
DTSTART;TZID=America/New_York:20241002T130000
DTEND;TZID=America/New_York:20241002T160000
DTSTAMP:20260419T154816
CREATED:20240801T123519Z
LAST-MODIFIED:20240916T122546Z
UID:1873-1727874000-1727884800@hah.community
SUMMARY:Sharing Tables
DESCRIPTION:Sharing Tables brings an array of produce to three locations in Harpswell from 1-4 p.m. (or as long as it lasts) every Wednesday from June 12th through October. Produce is free to anyone who will use it. Gardeners can leave excess produce for others. Find tables at the Cundy’s Harbor Community Church of the Nazarene\, 863 Cundy’s Harbor Road; Elijah Kellogg Church\, 917 Harpswell Neck Road; and Orr’s Island Library\, 1699 Harpswell Islands Road. Please don’t arrive before 1 pm to allow volunteers the chance to set the produce out.
URL:https://hah.community/event/sharing-tables-46/
LOCATION:Multiple Venues
CATEGORIES:Public Events
END:VEVENT
BEGIN:VEVENT
DTSTART;TZID=America/New_York:20241004T120000
DTEND;TZID=America/New_York:20241004T150000
DTSTAMP:20260419T154816
CREATED:20240801T123208Z
LAST-MODIFIED:20240916T122538Z
UID:1867-1728043200-1728054000@hah.community
SUMMARY:Cooking for Friends (with Friends)
DESCRIPTION:The Cooking for Friends (with Friends) program prepares food for Harpswell Aging at Home’s Meals in a Pinch program from 12-3 p.m. one Friday a month. Cooks meet in the Mid Coast Hunger Prevention Program’s commercial kitchen at 179 Neptune Drive\, Brunswick. HAH supplies ingredients and recipes. To sign up\, contact Julie Moulton\, juliemoulton28@gmail.com or 207-330-5416.
URL:https://hah.community/event/cooking-for-friends-with-friends-8/
LOCATION:179 Neptune Drive\, Brunswick
CATEGORIES:Public Events
ORGANIZER;CN="Julie Moulton":MAILTO:juliemoulton28@gmail.com
END:VEVENT
BEGIN:VEVENT
DTSTART;TZID=America/New_York:20241008T100000
DTEND;TZID=America/New_York:20241008T120000
DTSTAMP:20260419T154816
CREATED:20240801T123030Z
LAST-MODIFIED:20240801T123030Z
UID:1861-1728381600-1728388800@hah.community
SUMMARY:Meals in a Pinch
DESCRIPTION:Meals in a Pinch runs every other Tuesday and provides four meals to some of our Harpswell neighbors for a variety of reasons. Some are not able to consistently prepare meals because of health\, ability\, or mobility; others have difficulty obtaining food for practical or financial reasons. There is no income qualification–only a recognition that we all need some support at times. Whether an ongoing situation or a temporary need–like after a surgery or illness–Harpswell Aging at Home has meals available. Emergency meals can even be provided on the same day if necessary. Contact: Julie Moulton at juliemoulton28@gmail.com or 330-5416.\n\nLearn more about the MIP Program
URL:https://hah.community/event/meals-in-a-pinch-58/
LOCATION:ME
CATEGORIES:Public Events
ORGANIZER;CN="Julie Moulton":MAILTO:juliemoulton28@gmail.com
END:VEVENT
BEGIN:VEVENT
DTSTART;TZID=America/New_York:20241009T130000
DTEND;TZID=America/New_York:20241009T160000
DTSTAMP:20260419T154816
CREATED:20240801T123549Z
LAST-MODIFIED:20240916T122523Z
UID:1875-1728478800-1728489600@hah.community
SUMMARY:Sharing Tables
DESCRIPTION:Sharing Tables brings an array of produce to three locations in Harpswell from 1-4 p.m. (or as long as it lasts) every Wednesday from June 12th through October. Produce is free to anyone who will use it. Gardeners can leave excess produce for others. Find tables at the Cundy’s Harbor Community Church of the Nazarene\, 863 Cundy’s Harbor Road; Elijah Kellogg Church\, 917 Harpswell Neck Road; and Orr’s Island Library\, 1699 Harpswell Islands Road. Please don’t arrive before 1 pm to allow volunteers the chance to set the produce out.
URL:https://hah.community/event/sharing-tables-47/
LOCATION:Multiple Venues
CATEGORIES:Public Events
END:VEVENT
BEGIN:VEVENT
DTSTART;TZID=America/New_York:20241016T120000
DTEND;TZID=America/New_York:20241016T133000
DTSTAMP:20260419T154816
CREATED:20241008T193626Z
LAST-MODIFIED:20241008T193626Z
UID:1930-1729080000-1729085400@hah.community
SUMMARY:Carl "Stump" Merrill Talks Baseball with Harpswell ROMEOs
DESCRIPTION:Stump Merrill\, Harpswell resident and former major league baseball player\, coach and manager of the New York Yankees will talk about his life in baseball with the Harpswell Aging at Home ROMEOs (Retired Older Men Eating Out). Lunch will be provided\, there will be a baseball trivia contest and time for questions. The event is free but registration is required due to limited seating. To register and for additional info\, contact Tom Mahoney at: oldermeneatingout@gmail.com
URL:https://hah.community/event/carl-stump-merrill-talks-baseball-with-harpswell-romeos/
LOCATION:Merriconeag Grange\, 529 Harpswell Neck Rd\, Harpswell\, ME\, 04079\, United States
CATEGORIES:Harpswell ROMEOs
ORGANIZER;CN="HAH":MAILTO:hah@hah.community
END:VEVENT
BEGIN:VEVENT
DTSTART;TZID=America/New_York:20241016T130000
DTEND;TZID=America/New_York:20241016T160000
DTSTAMP:20260419T154816
CREATED:20240801T123618Z
LAST-MODIFIED:20240916T122511Z
UID:1877-1729083600-1729094400@hah.community
SUMMARY:Sharing Tables
DESCRIPTION:Sharing Tables brings an array of produce to three locations in Harpswell from 1-4 p.m. (or as long as it lasts) every Wednesday from June 12th through October. Produce is free to anyone who will use it. Gardeners can leave excess produce for others. Find tables at the Cundy’s Harbor Community Church of the Nazarene\, 863 Cundy’s Harbor Road; Elijah Kellogg Church\, 917 Harpswell Neck Road; and Orr’s Island Library\, 1699 Harpswell Islands Road. Please don’t arrive before 1 pm to allow volunteers the chance to set the produce out.
URL:https://hah.community/event/sharing-tables-48/
LOCATION:Multiple Venues
CATEGORIES:Public Events
END:VEVENT
BEGIN:VEVENT
DTSTART;TZID=America/New_York:20241018T120000
DTEND;TZID=America/New_York:20241018T150000
DTSTAMP:20260419T154816
CREATED:20240801T123252Z
LAST-MODIFIED:20240916T122346Z
UID:1869-1729252800-1729263600@hah.community
SUMMARY:Cooking for Friends (with Friends)
DESCRIPTION:The Cooking for Friends (with Friends) program prepares food for Harpswell Aging at Home’s Meals in a Pinch program from 12-3 p.m. one Friday a month. Cooks meet in the Mid Coast Hunger Prevention Program’s commercial kitchen at 179 Neptune Drive\, Brunswick. HAH supplies ingredients and recipes. To sign up\, contact Julie Moulton\, juliemoulton28@gmail.com or 207-330-5416.
URL:https://hah.community/event/cooking-for-friends-with-friends-9/
LOCATION:179 Neptune Drive\, Brunswick
CATEGORIES:Public Events
ORGANIZER;CN="Julie Moulton":MAILTO:juliemoulton28@gmail.com
END:VEVENT
BEGIN:VEVENT
DTSTART;TZID=America/New_York:20241019T100000
DTEND;TZID=America/New_York:20241019T120000
DTSTAMP:20260419T154816
CREATED:20240910T192742Z
LAST-MODIFIED:20240916T122419Z
UID:1889-1729332000-1729339200@hah.community
SUMMARY:Harpswell’s Own Repair Café
DESCRIPTION:Reduce\, Reuse\, Recycle. Here’s your opportunity to make those old things\, new again. Bring your broken items needing to be fixed to the Repair Cafe. Come visit us for rewiring lamps\, sharpening knives\, hemming pants\, glueing chairs\, restringing jewelry\, and much more. No appointment necessary. Our volunteers are ready to help. If you have any questions about your item please contact Martha Israel at marthaisraelhah@gmail.com or (207) 841-0949.
URL:https://hah.community/event/harpswells-own-repair-cafe-2/
LOCATION:Harpswell Town Office\, 263 Mountain Road\, Harpswell\, ME\, 04079\, United States
CATEGORIES:Public Events
ORGANIZER;CN="HAH":MAILTO:hah@hah.community
END:VEVENT
BEGIN:VEVENT
DTSTART;TZID=America/New_York:20241020T100000
DTEND;TZID=America/New_York:20241020T140000
DTSTAMP:20260419T154816
CREATED:20241008T194259Z
LAST-MODIFIED:20241008T194259Z
UID:1934-1729418400-1729432800@hah.community
SUMMARY:Time to Make the Cider
DESCRIPTION:Have you ever wanted to make your own apple cider? Join Cooking at 43° North for this hands-on cider making workshop and go home with two quarts of your own liquid gold. Space is limited so register early by emailing Julie Moulton at juliemoulton28@gmail.com or texting or calling her at 207-330-5416. Come dressed for the weather as we’ll be outside and bring 2 1-quart mason jars.
URL:https://hah.community/event/time-to-make-the-cider/
LOCATION:Harpswell Home off Mountain Road\, address provided upon registration
CATEGORIES:Cooking at 43º North,Public Events
ORGANIZER;CN="HAH":MAILTO:hah@hah.community
END:VEVENT
BEGIN:VEVENT
DTSTART;TZID=America/New_York:20241022T100000
DTEND;TZID=America/New_York:20241022T120000
DTSTAMP:20260419T154816
CREATED:20240801T123059Z
LAST-MODIFIED:20240801T123059Z
UID:1863-1729591200-1729598400@hah.community
SUMMARY:Meals in a Pinch
DESCRIPTION:Meals in a Pinch runs every other Tuesday and provides four meals to some of our Harpswell neighbors for a variety of reasons. Some are not able to consistently prepare meals because of health\, ability\, or mobility; others have difficulty obtaining food for practical or financial reasons. There is no income qualification–only a recognition that we all need some support at times. Whether an ongoing situation or a temporary need–like after a surgery or illness–Harpswell Aging at Home has meals available. Emergency meals can even be provided on the same day if necessary. Contact: Julie Moulton at juliemoulton28@gmail.com or 330-5416.\n\nLearn more about the MIP Program
URL:https://hah.community/event/meals-in-a-pinch-59/
LOCATION:ME
CATEGORIES:Public Events
ORGANIZER;CN="Julie Moulton":MAILTO:juliemoulton28@gmail.com
END:VEVENT
BEGIN:VEVENT
DTSTART;TZID=America/New_York:20241023T130000
DTEND;TZID=America/New_York:20241023T160000
DTSTAMP:20260419T154816
CREATED:20240801T123654Z
LAST-MODIFIED:20240916T122449Z
UID:1879-1729688400-1729699200@hah.community
SUMMARY:Sharing Tables
DESCRIPTION:Sharing Tables brings an array of produce to three locations in Harpswell from 1-4 p.m. (or as long as it lasts) every Wednesday from June 12th through October. Produce is free to anyone who will use it. Gardeners can leave excess produce for others. Find tables at the Cundy’s Harbor Community Church of the Nazarene\, 863 Cundy’s Harbor Road; Elijah Kellogg Church\, 917 Harpswell Neck Road; and Orr’s Island Library\, 1699 Harpswell Islands Road. Please don’t arrive before 1 pm to allow volunteers the chance to set the produce out.
URL:https://hah.community/event/sharing-tables-49/
LOCATION:Multiple Venues
CATEGORIES:Public Events
END:VEVENT
BEGIN:VEVENT
DTSTART;TZID=America/New_York:20241030T120000
DTEND;TZID=America/New_York:20241030T133000
DTSTAMP:20260419T154816
CREATED:20241008T193813Z
LAST-MODIFIED:20241008T193813Z
UID:1932-1730289600-1730295000@hah.community
SUMMARY:Harpswell ROMEOs Lunch and Program
DESCRIPTION:Join Harpswell Aging at Home’s ROMEOs for lunch and a special program (details to come) with new and old friends. Lunch is provided. The event is free but registration is required due to limited seating. To register and for additional info\, contact Tom Mahoney at: oldermeneatingout@gmail.com
URL:https://hah.community/event/harpswell-romeos-lunch-and-program/
LOCATION:Merriconeag Grange\, 529 Harpswell Neck Rd\, Harpswell\, ME\, 04079\, United States
CATEGORIES:Harpswell ROMEOs
ORGANIZER;CN="HAH":MAILTO:hah@hah.community
END:VEVENT
BEGIN:VEVENT
DTSTART;TZID=America/New_York:20241030T130000
DTEND;TZID=America/New_York:20241030T160000
DTSTAMP:20260419T154816
CREATED:20240801T123712Z
LAST-MODIFIED:20240916T122459Z
UID:1881-1730293200-1730304000@hah.community
SUMMARY:Sharing Tables
DESCRIPTION:Sharing Tables brings an array of produce to three locations in Harpswell from 1-4 p.m. (or as long as it lasts) every Wednesday from June 12th through October. Produce is free to anyone who will use it. Gardeners can leave excess produce for others. Find tables at the Cundy’s Harbor Community Church of the Nazarene\, 863 Cundy’s Harbor Road; Elijah Kellogg Church\, 917 Harpswell Neck Road; and Orr’s Island Library\, 1699 Harpswell Islands Road. Please don’t arrive before 1 pm to allow volunteers the chance to set the produce out.
URL:https://hah.community/event/sharing-tables-50/
LOCATION:Multiple Venues
CATEGORIES:Public Events
END:VEVENT
BEGIN:VEVENT
DTSTART;TZID=America/New_York:20241101T120000
DTEND;TZID=America/New_York:20241101T150000
DTSTAMP:20260419T154816
CREATED:20240923T131939Z
LAST-MODIFIED:20240923T131939Z
UID:1909-1730462400-1730473200@hah.community
SUMMARY:Cooking for Friends (with Friends)
DESCRIPTION:The Cooking for Friends (with Friends) program prepares food for Harpswell Aging at Home’s Meals in a Pinch program from 12-3 p.m. one Friday a month. Cooks meet in the Mid Coast Hunger Prevention Program’s commercial kitchen at 179 Neptune Drive\, Brunswick. HAH supplies ingredients and recipes. To sign up\, contact Julie Moulton\, juliemoulton28@gmail.com or 207-330-5416.
URL:https://hah.community/event/cooking-for-friends-with-friends-11/
LOCATION:179 Neptune Drive\, Brunswick
CATEGORIES:Public Events
ORGANIZER;CN="Julie Moulton":MAILTO:juliemoulton28@gmail.com
END:VEVENT
BEGIN:VEVENT
DTSTART;TZID=America/New_York:20241105T100000
DTEND;TZID=America/New_York:20241105T120000
DTSTAMP:20260419T154816
CREATED:20240923T132019Z
LAST-MODIFIED:20240923T132019Z
UID:1911-1730800800-1730808000@hah.community
SUMMARY:Meals in a Pinch
DESCRIPTION:Meals in a Pinch runs every other Tuesday and provides four meals to some of our Harpswell neighbors for a variety of reasons. Some are not able to consistently prepare meals because of health\, ability\, or mobility; others have difficulty obtaining food for practical or financial reasons. There is no income qualification–only a recognition that we all need some support at times. Whether an ongoing situation or a temporary need–like after a surgery or illness–Harpswell Aging at Home has meals available. Emergency meals can even be provided on the same day if necessary. Contact: Julie Moulton at juliemoulton28@gmail.com or 330-5416.\n\nLearn more about the MIP Program
URL:https://hah.community/event/meals-in-a-pinch-60/
LOCATION:ME
CATEGORIES:Public Events
ORGANIZER;CN="Julie Moulton":MAILTO:juliemoulton28@gmail.com
END:VEVENT
BEGIN:VEVENT
DTSTART;TZID=America/New_York:20241107T110000
DTEND;TZID=America/New_York:20241107T140000
DTSTAMP:20260419T154816
CREATED:20241014T175057Z
LAST-MODIFIED:20241014T175057Z
UID:1946-1730977200-1730988000@hah.community
SUMMARY:Cooking for Crowds: Food Safety Training
DESCRIPTION:COOKING FOR CROWDS is specifically designed for those cooking for non-profit events. Learn up-to-date methods for safely preparing\, handling\, and serving food for large group functions such as soup kitchens\, church functions\, food pantries\, and community fundraisers. Of course\, the information is valuable to all of us who cook in any fashion. Participants will receive a certificate of attendance from the University of Maine Cooperative Extension Service. \nFree for those who have cooked for any of the Harpswell Aging at Home food programs within the last year. Cooks from other organizations are welcome by paying the $15 fee to attend.
URL:https://hah.community/event/cooking-for-crowds-food-safety-training/
LOCATION:Orr’s Island Schoolhouse\, 1594 Harpswell Islands Road\, Orr's Island\, ME\, 04066\, United States
CATEGORIES:Public Events
ORGANIZER;CN="HAH":MAILTO:hah@hah.community
END:VEVENT
BEGIN:VEVENT
DTSTART;TZID=America/New_York:20241112T150000
DTEND;TZID=America/New_York:20241112T170000
DTSTAMP:20260419T154816
CREATED:20241014T174818Z
LAST-MODIFIED:20241021T135006Z
UID:1944-1731423600-1731430800@hah.community
SUMMARY:Gingerbread Anyone?
DESCRIPTION:Join us to assemble and decorate your edible holiday gingerbread house. This will be a fun event to share with friends and family. Houses will be decorated with edible frosting\, assorted sweet and salty treats. Materials will be provided. Come celebrate the sweetness of the season. Space is limited\, so register early by emailing Julie Moulton at juliemoulton28@gmail.com or texting or calling her at 207-330-5416.
URL:https://hah.community/event/gingerbread-anyone/
LOCATION:Cundy’s Harbor Community Hall\, 837 Cundy's Harbor Road\, Harpswell\, ME\, 04079\, United States
CATEGORIES:Cooking at 43º North,Public Events
ORGANIZER;CN="HAH":MAILTO:hah@hah.community
END:VEVENT
BEGIN:VEVENT
DTSTART;TZID=America/New_York:20241114T120000
DTEND;TZID=America/New_York:20241114T130000
DTSTAMP:20260419T154816
CREATED:20241014T175247Z
LAST-MODIFIED:20241014T175247Z
UID:1949-1731585600-1731589200@hah.community
SUMMARY:Lunch with Friends
DESCRIPTION:Join your friends at Lunch with Friends in Cundy’s Harbor. You may come pick up a lunch to take home\, or sit and eat with new and old friends\, depending on your comfort level. Come for good food and good company. Everyone is welcome to take part in the meal and the fun. See you there!
URL:https://hah.community/event/lunch-with-friends-12/
LOCATION:Cundy’s Harbor Community Hall\, 837 Cundy's Harbor Road\, Harpswell\, ME\, 04079\, United States
CATEGORIES:Lunch with Friends,Public Events
ORGANIZER;CN="Julie Moulton":MAILTO:juliemoulton28@gmail.com
END:VEVENT
END:VCALENDAR