BEGIN:VCALENDAR
VERSION:2.0
PRODID:-//Harpswell Aging at Home - ECPv6.15.20//NONSGML v1.0//EN
CALSCALE:GREGORIAN
METHOD:PUBLISH
X-WR-CALNAME:Harpswell Aging at Home
X-ORIGINAL-URL:https://hah.community
X-WR-CALDESC:Events for Harpswell Aging at Home
REFRESH-INTERVAL;VALUE=DURATION:PT1H
X-Robots-Tag:noindex
X-PUBLISHED-TTL:PT1H
BEGIN:VTIMEZONE
TZID:America/New_York
BEGIN:DAYLIGHT
TZOFFSETFROM:-0500
TZOFFSETTO:-0400
TZNAME:EDT
DTSTART:20210314T070000
END:DAYLIGHT
BEGIN:STANDARD
TZOFFSETFROM:-0400
TZOFFSETTO:-0500
TZNAME:EST
DTSTART:20211107T060000
END:STANDARD
BEGIN:DAYLIGHT
TZOFFSETFROM:-0500
TZOFFSETTO:-0400
TZNAME:EDT
DTSTART:20220313T070000
END:DAYLIGHT
BEGIN:STANDARD
TZOFFSETFROM:-0400
TZOFFSETTO:-0500
TZNAME:EST
DTSTART:20221106T060000
END:STANDARD
BEGIN:DAYLIGHT
TZOFFSETFROM:-0500
TZOFFSETTO:-0400
TZNAME:EDT
DTSTART:20230312T070000
END:DAYLIGHT
BEGIN:STANDARD
TZOFFSETFROM:-0400
TZOFFSETTO:-0500
TZNAME:EST
DTSTART:20231105T060000
END:STANDARD
END:VTIMEZONE
BEGIN:VEVENT
DTSTART;TZID=America/New_York:20221110T130000
DTEND;TZID=America/New_York:20221110T140000
DTSTAMP:20260419T173452
CREATED:20221014T140634Z
LAST-MODIFIED:20221018T195033Z
UID:821-1668085200-1668088800@hah.community
SUMMARY:Lunch with Friends
DESCRIPTION:Join your friends for lunch at the Harpswell Town Office (around the back in the Selectmen’s Room) immediately following the morning’s Friends Together program. \nWe’ll supply soup\, sandwich\, fruit\, and dessert\, packed in a brown bag. You can eat your lunch here or take it home. All are welcome (whether you’ve attended Friends Together or not). \nHope to see you!
URL:https://hah.community/event/lunch-with-friends/
LOCATION:Harpswell Town Office\, 263 Mountain Road\, Harpswell\, ME\, 04079\, United States
CATEGORIES:Public Events
ORGANIZER;CN="HAH":MAILTO:hah@hah.community
END:VEVENT
BEGIN:VEVENT
DTSTART;TZID=America/New_York:20221110T093000
DTEND;TZID=America/New_York:20221110T130000
DTSTAMP:20260419T173452
CREATED:20220915T150919Z
LAST-MODIFIED:20220915T150919Z
UID:702-1668072600-1668085200@hah.community
SUMMARY:Friends Together
DESCRIPTION:9:30 – Tai chi\n10:15 – Nature For Your Table: Make Your Own Centerpiece\n11:15 – Don’t Get Scammed: How to Recognize Scams and Not Become a Victim
URL:https://hah.community/event/friends-together-8/
LOCATION:Harpswell Town Office\, 263 Mountain Road\, Harpswell\, ME\, 04079\, United States
CATEGORIES:Friends Together
ORGANIZER;CN="HAH":MAILTO:hah@hah.community
END:VEVENT
BEGIN:VEVENT
DTSTART;TZID=America/New_York:20221108T100000
DTEND;TZID=America/New_York:20221108T120000
DTSTAMP:20260419T173452
CREATED:20221003T205353Z
LAST-MODIFIED:20221003T205353Z
UID:803-1667901600-1667908800@hah.community
SUMMARY:Meals in a Pinch
DESCRIPTION:Meals in a Pinch runs every other Tuesday and provides four meals to some of our Harpswell neighbors for a variety of reasons. Some are not able to consistently prepare meals because of health\, ability\, or mobility; others have difficulty obtaining food for practical or financial reasons. There is no income qualification–only a recognition that we all need some support at times. Whether an ongoing situation or a temporary need–like after a surgery or illness–Harpswell Aging at Home has meals available. Emergency meals can even be provided on the same day if necessary. Contact: Julie Moulton at juliemoulton28@gmail.com or 330-5416.
URL:https://hah.community/event/meals-in-a-pinch-9/
LOCATION:ME
CATEGORIES:Public Events
ORGANIZER;CN="Julie Moulton":MAILTO:juliemoulton28@gmail.com
END:VEVENT
BEGIN:VEVENT
DTSTART;TZID=America/New_York:20221105T160000
DTEND;TZID=America/New_York:20221105T180000
DTSTAMP:20260419T173452
CREATED:20221014T140450Z
LAST-MODIFIED:20221014T140450Z
UID:818-1667664000-1667671200@hah.community
SUMMARY:Cooking Thai: Healthy Food Without a Sigh
DESCRIPTION:Have you ever wanted to cook delicious AND healthy food?  Thai food is some of the healthiest in the world and this hands-on workshop with Stacy Standley will show you how easy it is to prepare at home. Hot\, sour\, salty and sweet tastes are all rolled into simple cooking procedures.  Many Thai dishes are vegan because of the cuisine’s reliance on fresh vegetables and most are dairy free\, except for eggs.  Stacy will demonstrate how to make basic salad dressings and dipping sauces and together you’ll prepare some of her favorite dishes like Tom Yum Soup\, Thai Summer Salad\, Crispy Thai Chicken and Apple Salad\, and Easy Pad Thai\, but there will be much more! Bring your apron! \nOnce you get the basic ingredients in your kitchen (and Stacy will advise of local stores or you can grow many of the vegetables in your own garden)\, you’re onto a new and fun way of cooking that’s good for you\, the family and guests. \nQuestions:  Email Karin Soderberg: karmardalin@gmail.com \nPlease note: This will be a hybrid event. In-person space is limited to 12 people but all are welcome on zoom. \nRegister by November 1st to participate in-person or by Zoom. \nTo sign up or for more information\, please email Julie (juliemoulton28@gmail.com)\, text\, or call her at 207-330-5416.
URL:https://hah.community/event/cooking-thai-healthy-food-without-a-sigh/
LOCATION:Stacy Standley’s Home
CATEGORIES:Public Events
ORGANIZER;CN="Julie Moulton":MAILTO:juliemoulton28@gmail.com
END:VEVENT
BEGIN:VEVENT
DTSTART;TZID=America/New_York:20221103T093000
DTEND;TZID=America/New_York:20221103T130000
DTSTAMP:20260419T173452
CREATED:20220915T150822Z
LAST-MODIFIED:20220915T150822Z
UID:700-1667467800-1667480400@hah.community
SUMMARY:Friends Together
DESCRIPTION:9:30 – Chair Yoga\n10:15 – Earrings For You or To Give as A Gift\n11:15 – Dealing with Memory Loss
URL:https://hah.community/event/friends-together-7/
LOCATION:Harpswell Town Office\, 263 Mountain Road\, Harpswell\, ME\, 04079\, United States
CATEGORIES:Friends Together
ORGANIZER;CN="HAH":MAILTO:hah@hah.community
END:VEVENT
BEGIN:VEVENT
DTSTART;TZID=America/New_York:20221027T093000
DTEND;TZID=America/New_York:20221027T130000
DTSTAMP:20260419T173452
CREATED:20220915T150730Z
LAST-MODIFIED:20220915T150730Z
UID:698-1666863000-1666875600@hah.community
SUMMARY:Friends Together
DESCRIPTION:9:30 – Tai chi\n10:15 – Create Your Own Needle Felted Buoy\n11:15 – Safe and Easy Stretching
URL:https://hah.community/event/friends-together-6/
LOCATION:Harpswell Town Office\, 263 Mountain Road\, Harpswell\, ME\, 04079\, United States
CATEGORIES:Friends Together
ORGANIZER;CN="HAH":MAILTO:hah@hah.community
END:VEVENT
BEGIN:VEVENT
DTSTART;TZID=America/New_York:20221026T130000
DTEND;TZID=America/New_York:20221026T150000
DTSTAMP:20260419T173452
CREATED:20221014T135835Z
LAST-MODIFIED:20221014T135835Z
UID:815-1666789200-1666796400@hah.community
SUMMARY:The Fine Art of Cookie Decorating
DESCRIPTION:Julie Raines will share tips and tricks to make plain cookies festive and beautiful. In this hands-on workshop\, fill and use a decorating bag\, discover options for how to color frosting\, and practice using several decorating tips\, making a feather design\, and creating simple royal frosting flowers. Take home two different frosting recipes plus a useful tool to help arthritic fingers and wrists be more comfortable with the icing process. Bring a container in which to take home the decorated cookies. \nPlease note: This will be a hybrid event. In-person space is limited to 12 people but all are welcome on zoom. \nRegister by October 21st to participate in-person or by Zoom. \nTo sign up or for more information\, please email Julie (juliemoulton28@gmail.com)\, text\, or call her at 207-330-5416.
URL:https://hah.community/event/the-fine-art-of-cookie-decorating/
LOCATION:Great Island Church of the Nazarene\, 806 Harpswell Islands Rd.\, Harpswell\, ME\, 04079\, United States
CATEGORIES:Public Events
ORGANIZER;CN="Julie Moulton":MAILTO:juliemoulton28@gmail.com
END:VEVENT
BEGIN:VEVENT
DTSTART;TZID=America/New_York:20221026T120000
DTEND;TZID=America/New_York:20221026T160000
DTSTAMP:20260419T173452
CREATED:20220915T181724Z
LAST-MODIFIED:20220915T181724Z
UID:758-1666785600-1666800000@hah.community
SUMMARY:Sharing Tables
DESCRIPTION:Located at the Orr’s Island Library\, Elijah Kellogg Church\, Cundy’s Harbor Church of the Nazarene. \nSummer means fresh produce and the Sharing Tables make it free and easy to eat your veggies! Tables of contributed vegetables are set up each Wednesday at noon from June-October for folks to come and grab a few veggies. If you will use them\, come get some. Local gardeners can leave excess vegetables for others as well. What a great way to share summer’s bounty! This program is co-sponsored by the Harpswell Community Garden\, Merrymeeting Gleaners\, Mid Coast Hunger Prevention Program\, and Harpswell Aging at Home.
URL:https://hah.community/event/sharing-tables-16/
LOCATION:ME
CATEGORIES:Public Events
END:VEVENT
BEGIN:VEVENT
DTSTART;TZID=America/New_York:20221025T100000
DTEND;TZID=America/New_York:20221025T120000
DTSTAMP:20260419T173452
CREATED:20220915T181703Z
LAST-MODIFIED:20220915T181703Z
UID:756-1666692000-1666699200@hah.community
SUMMARY:Meals in a Pinch
DESCRIPTION:Meals in a Pinch runs every other Tuesday and provides four meals to some of our Harpswell neighbors for a variety of reasons. Some are not able to consistently prepare meals because of health\, ability\, or mobility; others have difficulty obtaining food for practical or financial reasons. There is no income qualification–only a recognition that we all need some support at times. Whether an ongoing situation or a temporary need–like after a surgery or illness–Harpswell Aging at Home has meals available. Emergency meals can even be provided on the same day if necessary. Contact: Julie Moulton at juliemoulton28@gmail.com or 330-5416.
URL:https://hah.community/event/meals-in-a-pinch-8/
LOCATION:ME
CATEGORIES:Public Events
ORGANIZER;CN="Julie Moulton":MAILTO:juliemoulton28@gmail.com
END:VEVENT
BEGIN:VEVENT
DTSTART;TZID=America/New_York:20221020T093000
DTEND;TZID=America/New_York:20221020T130000
DTSTAMP:20260419T173452
CREATED:20220915T150437Z
LAST-MODIFIED:20220915T150525Z
UID:695-1666258200-1666270800@hah.community
SUMMARY:Friends Together
DESCRIPTION:Road Trip! Friends Together goes to the People Plus Senior Expo.
URL:https://hah.community/event/friends-together-5/
LOCATION:Harpswell Town Office\, 263 Mountain Road\, Harpswell\, ME\, 04079\, United States
CATEGORIES:Friends Together
ORGANIZER;CN="HAH":MAILTO:hah@hah.community
END:VEVENT
BEGIN:VEVENT
DTSTART;TZID=America/New_York:20221019T120000
DTEND;TZID=America/New_York:20221019T160000
DTSTAMP:20260419T173452
CREATED:20220915T181617Z
LAST-MODIFIED:20220915T181617Z
UID:754-1666180800-1666195200@hah.community
SUMMARY:Sharing Tables
DESCRIPTION:Located at the Orr’s Island Library\, Elijah Kellogg Church\, Cundy’s Harbor Church of the Nazarene. \nSummer means fresh produce and the Sharing Tables make it free and easy to eat your veggies! Tables of contributed vegetables are set up each Wednesday at noon from June-October for folks to come and grab a few veggies. If you will use them\, come get some. Local gardeners can leave excess vegetables for others as well. What a great way to share summer’s bounty! This program is co-sponsored by the Harpswell Community Garden\, Merrymeeting Gleaners\, Mid Coast Hunger Prevention Program\, and Harpswell Aging at Home.
URL:https://hah.community/event/sharing-tables-15/
LOCATION:ME
CATEGORIES:Public Events
END:VEVENT
BEGIN:VEVENT
DTSTART;TZID=America/New_York:20221013T093000
DTEND;TZID=America/New_York:20221013T130000
DTSTAMP:20260419T173452
CREATED:20220915T150343Z
LAST-MODIFIED:20220915T150424Z
UID:693-1665653400-1665666000@hah.community
SUMMARY:Friends Together
DESCRIPTION:9:30 – Tai chi\n10:15 – Fun with Yarn FiberArts\n11:15 – Navigating Updates to Medicare and Social Security
URL:https://hah.community/event/friends-together-4/
LOCATION:Harpswell Town Office\, 263 Mountain Road\, Harpswell\, ME\, 04079\, United States
CATEGORIES:Friends Together
ORGANIZER;CN="HAH":MAILTO:hah@hah.community
END:VEVENT
BEGIN:VEVENT
DTSTART;TZID=America/New_York:20221012T120000
DTEND;TZID=America/New_York:20221012T160000
DTSTAMP:20260419T173452
CREATED:20220915T181546Z
LAST-MODIFIED:20220915T181546Z
UID:752-1665576000-1665590400@hah.community
SUMMARY:Sharing Tables
DESCRIPTION:Located at the Orr’s Island Library\, Elijah Kellogg Church\, Cundy’s Harbor Church of the Nazarene. \nSummer means fresh produce and the Sharing Tables make it free and easy to eat your veggies! Tables of contributed vegetables are set up each Wednesday at noon from June-October for folks to come and grab a few veggies. If you will use them\, come get some. Local gardeners can leave excess vegetables for others as well. What a great way to share summer’s bounty! This program is co-sponsored by the Harpswell Community Garden\, Merrymeeting Gleaners\, Mid Coast Hunger Prevention Program\, and Harpswell Aging at Home.
URL:https://hah.community/event/sharing-tables-14/
LOCATION:ME
CATEGORIES:Public Events
END:VEVENT
BEGIN:VEVENT
DTSTART;TZID=America/New_York:20221011T100000
DTEND;TZID=America/New_York:20221011T120000
DTSTAMP:20260419T173452
CREATED:20220915T181403Z
LAST-MODIFIED:20220915T181403Z
UID:750-1665482400-1665489600@hah.community
SUMMARY:Meals in a Pinch
DESCRIPTION:Meals in a Pinch runs every other Tuesday and provides four meals to some of our Harpswell neighbors for a variety of reasons. Some are not able to consistently prepare meals because of health\, ability\, or mobility; others have difficulty obtaining food for practical or financial reasons. There is no income qualification–only a recognition that we all need some support at times. Whether an ongoing situation or a temporary need–like after a surgery or illness–Harpswell Aging at Home has meals available. Emergency meals can even be provided on the same day if necessary. Contact: Julie Moulton at juliemoulton28@gmail.com or 330-5416.
URL:https://hah.community/event/meals-in-a-pinch-7/
LOCATION:ME
CATEGORIES:Public Events
ORGANIZER;CN="Julie Moulton":MAILTO:juliemoulton28@gmail.com
END:VEVENT
BEGIN:VEVENT
DTSTART;TZID=America/New_York:20221006T130000
DTEND;TZID=America/New_York:20221006T140000
DTSTAMP:20260419T173452
CREATED:20220915T181042Z
LAST-MODIFIED:20220915T181244Z
UID:747-1665061200-1665064800@hah.community
SUMMARY:Snacks with Friends
DESCRIPTION:Join your friends and neighbors for some fall fun and sweet and savory snacks as we meet at Mitchell Field and gather for a lovely afternoon of reconnecting after a busy summer. Bring a chair! Thanks to the Town of Harpswell for letting us use this scenic spot and to Harpswell Indivisible for providing the refreshments. Rain date: October 7
URL:https://hah.community/event/snacks-with-friends-3/
LOCATION:Mitchell Field\, Harpswell Neck Road\, Harpswell\, 04079
CATEGORIES:Public Events
ORGANIZER;CN="HAH":MAILTO:hah@hah.community
END:VEVENT
BEGIN:VEVENT
DTSTART;TZID=America/New_York:20221006T093000
DTEND;TZID=America/New_York:20221006T130000
DTSTAMP:20260419T173452
CREATED:20220915T150244Z
LAST-MODIFIED:20220915T150338Z
UID:691-1665048600-1665061200@hah.community
SUMMARY:Friends Together
DESCRIPTION:9:30 – Chair Yoga\n10:15 – Turn Pebbles Into Art\n11:15 – Getting Your Affairs in Order
URL:https://hah.community/event/friends-together-3/
LOCATION:Harpswell Town Office\, 263 Mountain Road\, Harpswell\, ME\, 04079\, United States
CATEGORIES:Friends Together
ORGANIZER;CN="HAH":MAILTO:hah@hah.community
END:VEVENT
BEGIN:VEVENT
DTSTART;TZID=America/New_York:20221005T120000
DTEND;TZID=America/New_York:20221005T160000
DTSTAMP:20260419T173452
CREATED:20220915T180817Z
LAST-MODIFIED:20220915T180817Z
UID:745-1664971200-1664985600@hah.community
SUMMARY:Sharing Tables
DESCRIPTION:Located at the Orr’s Island Library\, Elijah Kellogg Church\, Cundy’s Harbor Church of the Nazarene. \nSummer means fresh produce and the Sharing Tables make it free and easy to eat your veggies! Tables of contributed vegetables are set up each Wednesday at noon from June-October for folks to come and grab a few veggies. If you will use them\, come get some. Local gardeners can leave excess vegetables for others as well. What a great way to share summer’s bounty! This program is co-sponsored by the Harpswell Community Garden\, Merrymeeting Gleaners\, Mid Coast Hunger Prevention Program\, and Harpswell Aging at Home.
URL:https://hah.community/event/sharing-tables-13/
LOCATION:ME
CATEGORIES:Public Events
END:VEVENT
BEGIN:VEVENT
DTSTART;TZID=America/New_York:20220929T093000
DTEND;TZID=America/New_York:20220929T130000
DTSTAMP:20260419T173452
CREATED:20220915T150113Z
LAST-MODIFIED:20220915T150253Z
UID:688-1664443800-1664456400@hah.community
SUMMARY:Friends Together
DESCRIPTION:9:30 – Tai chi\n10:15 – A Picture is Worth a Thousand Words: Taking Better Cellphone Photos\n11:15 – Helping Our Emergency Services Help You Faster and More Easily
URL:https://hah.community/event/friends-together-2/
LOCATION:Harpswell Town Office\, 263 Mountain Road\, Harpswell\, ME\, 04079\, United States
CATEGORIES:Friends Together
ORGANIZER;CN="HAH":MAILTO:hah@hah.community
END:VEVENT
BEGIN:VEVENT
DTSTART;TZID=America/New_York:20220928T120000
DTEND;TZID=America/New_York:20220928T160000
DTSTAMP:20260419T173452
CREATED:20220915T180629Z
LAST-MODIFIED:20220915T180629Z
UID:743-1664366400-1664380800@hah.community
SUMMARY:Sharing Tables
DESCRIPTION:Located at the Orr’s Island Library\, Elijah Kellogg Church\, Cundy’s Harbor Church of the Nazarene. \nSummer means fresh produce and the Sharing Tables make it free and easy to eat your veggies! Tables of contributed vegetables are set up each Wednesday at noon from June-October for folks to come and grab a few veggies. If you will use them\, come get some. Local gardeners can leave excess vegetables for others as well. What a great way to share summer’s bounty! This program is co-sponsored by the Harpswell Community Garden\, Merrymeeting Gleaners\, Mid Coast Hunger Prevention Program\, and Harpswell Aging at Home.
URL:https://hah.community/event/sharing-tables-12/
LOCATION:ME
CATEGORIES:Public Events
END:VEVENT
BEGIN:VEVENT
DTSTART;TZID=America/New_York:20220927T100000
DTEND;TZID=America/New_York:20220927T120000
DTSTAMP:20260419T173452
CREATED:20220915T180550Z
LAST-MODIFIED:20220915T180550Z
UID:741-1664272800-1664280000@hah.community
SUMMARY:Meals in a Pinch
DESCRIPTION:Meals in a Pinch runs every other Tuesday and provides four meals to some of our Harpswell neighbors for a variety of reasons. Some are not able to consistently prepare meals because of health\, ability\, or mobility; others have difficulty obtaining food for practical or financial reasons. There is no income qualification–only a recognition that we all need some support at times. Whether an ongoing situation or a temporary need–like after a surgery or illness–Harpswell Aging at Home has meals available. Emergency meals can even be provided on the same day if necessary. Contact: Julie Moulton at juliemoulton28@gmail.com or 330-5416.
URL:https://hah.community/event/meals-in-a-pinch-6/
LOCATION:ME
CATEGORIES:Public Events
ORGANIZER;CN="Julie Moulton":MAILTO:juliemoulton28@gmail.com
END:VEVENT
BEGIN:VEVENT
DTSTART;TZID=America/New_York:20220922T093000
DTEND;TZID=America/New_York:20220922T130000
DTSTAMP:20260419T173452
CREATED:20220915T145924Z
LAST-MODIFIED:20220915T145924Z
UID:683-1663839000-1663851600@hah.community
SUMMARY:Friends Together
DESCRIPTION:9:30 – Chair Yoga\n10:15 – Fish Tales: How to Tie your Flies\n11:15 – Fear of Falling: How To Prevent Falls from Happening
URL:https://hah.community/event/friends-together/
LOCATION:Harpswell Town Office\, 263 Mountain Road\, Harpswell\, ME\, 04079\, United States
CATEGORIES:Friends Together
ORGANIZER;CN="HAH":MAILTO:hah@hah.community
END:VEVENT
BEGIN:VEVENT
DTSTART;TZID=America/New_York:20220921T130000
DTEND;TZID=America/New_York:20220921T140000
DTSTAMP:20260419T173452
CREATED:20220915T160040Z
LAST-MODIFIED:20220919T142754Z
UID:732-1663765200-1663768800@hah.community
SUMMARY:Snacks with Friends
DESCRIPTION:Join your friends and neighbors for warm sea breezes and some sweet and savory snacks as we meet at Mackerel Cove and gather for a lovely afternoon of reconnecting. Bring a chair! Thanks to the Harpswell Heritage Land Trust for letting us use this scenic spot.
URL:https://hah.community/event/snacks-with-friends-2/
LOCATION:Mackerel Cove\, Bailey Island\, ME\, 04003\, United States
CATEGORIES:Public Events
ORGANIZER;CN="HAH":MAILTO:hah@hah.community
END:VEVENT
BEGIN:VEVENT
DTSTART;TZID=America/New_York:20220921T120000
DTEND;TZID=America/New_York:20220921T160000
DTSTAMP:20260419T173452
CREATED:20220915T180450Z
LAST-MODIFIED:20220915T180450Z
UID:739-1663761600-1663776000@hah.community
SUMMARY:Sharing Tables
DESCRIPTION:Located at the Orr’s Island Library\, Elijah Kellogg Church\, Cundy’s Harbor Church of the Nazarene. \nSummer means fresh produce and the Sharing Tables make it free and easy to eat your veggies! Tables of contributed vegetables are set up each Wednesday at noon from June-October for folks to come and grab a few veggies. If you will use them\, come get some. Local gardeners can leave excess vegetables for others as well. What a great way to share summer’s bounty! This program is co-sponsored by the Harpswell Community Garden\, Merrymeeting Gleaners\, Mid Coast Hunger Prevention Program\, and Harpswell Aging at Home.
URL:https://hah.community/event/sharing-tables-11/
LOCATION:ME
CATEGORIES:Public Events
END:VEVENT
BEGIN:VEVENT
DTSTART;TZID=America/New_York:20220831T120000
DTEND;TZID=America/New_York:20220831T160000
DTSTAMP:20260419T173452
CREATED:20220627T152654Z
LAST-MODIFIED:20220628T175104Z
UID:529-1661947200-1661961600@hah.community
SUMMARY:Sharing Tables
DESCRIPTION:Located at the Orr’s Island Library\, Elijah Kellogg Church\, Cundy’s Harbor Church of the Nazarene. \nSummer means fresh produce and the Sharing Tables make it free and easy to eat your veggies! Tables of contributed vegetables are set up each Wednesday at noon from June-October for folks to come and grab a few veggies. If you will use them\, come get some. Local gardeners can leave excess vegetables for others as well. What a great way to share summer’s bounty! This program is co-sponsored by the Harpswell Community Garden\, Merrymeeting Gleaners\, Mid Coast Hunger Prevention Program\, and Harpswell Aging at Home.
URL:https://hah.community/event/sharing-tables-10/
LOCATION:ME
CATEGORIES:Public Events
END:VEVENT
BEGIN:VEVENT
DTSTART;TZID=America/New_York:20220830T100000
DTEND;TZID=America/New_York:20220830T120000
DTSTAMP:20260419T173452
CREATED:20220627T152123Z
LAST-MODIFIED:20220627T152138Z
UID:511-1661853600-1661860800@hah.community
SUMMARY:Meals in a Pinch
DESCRIPTION:Meals in a Pinch runs every other Tuesday and provides four meals to some of our Harpswell neighbors for a variety of reasons. Some are not able to consistently prepare meals because of health\, ability\, or mobility; others have difficulty obtaining food for practical or financial reasons. There is no income qualification–only a recognition that we all need some support at times. Whether an ongoing situation or a temporary need–like after a surgery or illness–Harpswell Aging at Home has meals available. Emergency meals can even be provided on the same day if necessary. Contact: Julie Moulton at juliemoulton28@gmail.com or 330-5416.
URL:https://hah.community/event/meals-in-a-pinch-5/
LOCATION:ME
CATEGORIES:Public Events
ORGANIZER;CN="Julie Moulton":MAILTO:juliemoulton28@gmail.com
END:VEVENT
BEGIN:VEVENT
DTSTART;TZID=America/New_York:20220824T120000
DTEND;TZID=America/New_York:20220824T160000
DTSTAMP:20260419T173452
CREATED:20220627T152635Z
LAST-MODIFIED:20220628T174929Z
UID:527-1661342400-1661356800@hah.community
SUMMARY:Sharing Tables
DESCRIPTION:Located at the Orr’s Island Library\, Elijah Kellogg Church\, Cundy’s Harbor Church of the Nazarene. \nSummer means fresh produce and the Sharing Tables make it free and easy to eat your veggies! Tables of contributed vegetables are set up each Wednesday at noon from June-October for folks to come and grab a few veggies. If you will use them\, come get some. Local gardeners can leave excess vegetables for others as well. What a great way to share summer’s bounty! This program is co-sponsored by the Harpswell Community Garden\, Merrymeeting Gleaners\, Mid Coast Hunger Prevention Program\, and Harpswell Aging at Home.
URL:https://hah.community/event/sharing-tables-9/
LOCATION:ME
CATEGORIES:Public Events
END:VEVENT
BEGIN:VEVENT
DTSTART;TZID=America/New_York:20220817T120000
DTEND;TZID=America/New_York:20220817T160000
DTSTAMP:20260419T173452
CREATED:20220627T152615Z
LAST-MODIFIED:20220628T174914Z
UID:525-1660737600-1660752000@hah.community
SUMMARY:Sharing Tables
DESCRIPTION:Located at the Orr’s Island Library\, Elijah Kellogg Church\, Cundy’s Harbor Church of the Nazarene. \nSummer means fresh produce and the Sharing Tables make it free and easy to eat your veggies! Tables of contributed vegetables are set up each Wednesday at noon from June-October for folks to come and grab a few veggies. If you will use them\, come get some. Local gardeners can leave excess vegetables for others as well. What a great way to share summer’s bounty! This program is co-sponsored by the Harpswell Community Garden\, Merrymeeting Gleaners\, Mid Coast Hunger Prevention Program\, and Harpswell Aging at Home.
URL:https://hah.community/event/sharing-tables-8/
LOCATION:ME
CATEGORIES:Public Events
END:VEVENT
BEGIN:VEVENT
DTSTART;TZID=America/New_York:20220816T100000
DTEND;TZID=America/New_York:20220816T120000
DTSTAMP:20260419T173452
CREATED:20220627T152055Z
LAST-MODIFIED:20220627T152115Z
UID:509-1660644000-1660651200@hah.community
SUMMARY:Meals in a Pinch
DESCRIPTION:Meals in a Pinch runs every other Tuesday and provides four meals to some of our Harpswell neighbors for a variety of reasons. Some are not able to consistently prepare meals because of health\, ability\, or mobility; others have difficulty obtaining food for practical or financial reasons. There is no income qualification–only a recognition that we all need some support at times. Whether an ongoing situation or a temporary need–like after a surgery or illness–Harpswell Aging at Home has meals available. Emergency meals can even be provided on the same day if necessary. Contact: Julie Moulton at juliemoulton28@gmail.com or 330-5416.
URL:https://hah.community/event/meals-in-a-pinch-4/
LOCATION:ME
CATEGORIES:Public Events
ORGANIZER;CN="Julie Moulton":MAILTO:juliemoulton28@gmail.com
END:VEVENT
BEGIN:VEVENT
DTSTART;TZID=America/New_York:20220810T120000
DTEND;TZID=America/New_York:20220810T160000
DTSTAMP:20260419T173452
CREATED:20220627T152548Z
LAST-MODIFIED:20220628T174903Z
UID:523-1660132800-1660147200@hah.community
SUMMARY:Sharing Tables
DESCRIPTION:Located at the Orr’s Island Library\, Elijah Kellogg Church\, Cundy’s Harbor Church of the Nazarene. \nSummer means fresh produce and the Sharing Tables make it free and easy to eat your veggies! Tables of contributed vegetables are set up each Wednesday at noon from June-October for folks to come and grab a few veggies. If you will use them\, come get some. Local gardeners can leave excess vegetables for others as well. What a great way to share summer’s bounty! This program is co-sponsored by the Harpswell Community Garden\, Merrymeeting Gleaners\, Mid Coast Hunger Prevention Program\, and Harpswell Aging at Home.
URL:https://hah.community/event/sharing-tables-7/
LOCATION:ME
CATEGORIES:Public Events
END:VEVENT
BEGIN:VEVENT
DTSTART;TZID=America/New_York:20220803T120000
DTEND;TZID=America/New_York:20220803T160000
DTSTAMP:20260419T173452
CREATED:20220627T152504Z
LAST-MODIFIED:20220628T174851Z
UID:521-1659528000-1659542400@hah.community
SUMMARY:Sharing Tables
DESCRIPTION:Located at the Orr’s Island Library\, Elijah Kellogg Church\, Cundy’s Harbor Church of the Nazarene. \nSummer means fresh produce and the Sharing Tables make it free and easy to eat your veggies! Tables of contributed vegetables are set up each Wednesday at noon from June-October for folks to come and grab a few veggies. If you will use them\, come get some. Local gardeners can leave excess vegetables for others as well. What a great way to share summer’s bounty! This program is co-sponsored by the Harpswell Community Garden\, Merrymeeting Gleaners\, Mid Coast Hunger Prevention Program\, and Harpswell Aging at Home.
URL:https://hah.community/event/sharing-tables-6/
LOCATION:ME
CATEGORIES:Public Events
END:VEVENT
END:VCALENDAR