BEGIN:VCALENDAR
VERSION:2.0
PRODID:-//Harpswell Aging at Home - ECPv6.15.20//NONSGML v1.0//EN
CALSCALE:GREGORIAN
METHOD:PUBLISH
X-WR-CALNAME:Harpswell Aging at Home
X-ORIGINAL-URL:https://hah.community
X-WR-CALDESC:Events for Harpswell Aging at Home
REFRESH-INTERVAL;VALUE=DURATION:PT1H
X-Robots-Tag:noindex
X-PUBLISHED-TTL:PT1H
BEGIN:VTIMEZONE
TZID:America/New_York
BEGIN:DAYLIGHT
TZOFFSETFROM:-0500
TZOFFSETTO:-0400
TZNAME:EDT
DTSTART:20210314T070000
END:DAYLIGHT
BEGIN:STANDARD
TZOFFSETFROM:-0400
TZOFFSETTO:-0500
TZNAME:EST
DTSTART:20211107T060000
END:STANDARD
BEGIN:DAYLIGHT
TZOFFSETFROM:-0500
TZOFFSETTO:-0400
TZNAME:EDT
DTSTART:20220313T070000
END:DAYLIGHT
BEGIN:STANDARD
TZOFFSETFROM:-0400
TZOFFSETTO:-0500
TZNAME:EST
DTSTART:20221106T060000
END:STANDARD
BEGIN:DAYLIGHT
TZOFFSETFROM:-0500
TZOFFSETTO:-0400
TZNAME:EDT
DTSTART:20230312T070000
END:DAYLIGHT
BEGIN:STANDARD
TZOFFSETFROM:-0400
TZOFFSETTO:-0500
TZNAME:EST
DTSTART:20231105T060000
END:STANDARD
END:VTIMEZONE
BEGIN:VEVENT
DTSTART;TZID=America/New_York:20220629T120000
DTEND;TZID=America/New_York:20220629T160000
DTSTAMP:20260421T224433
CREATED:20220627T151342Z
LAST-MODIFIED:20220628T174647Z
UID:498-1656504000-1656518400@hah.community
SUMMARY:Sharing Tables
DESCRIPTION:Located at the Orr’s Island Library\, Elijah Kellogg Church\, Cundy’s Harbor Church of the Nazarene. \nSummer means fresh produce and the Sharing Tables make it free and easy to eat your veggies! Tables of contributed vegetables are set up each Wednesday at noon from June-October for folks to come and grab a few veggies. If you will use them\, come get some. Local gardeners can leave excess vegetables for others as well. What a great way to share summer’s bounty! This program is co-sponsored by the Harpswell Community Garden\, Merrymeeting Gleaners\, Mid Coast Hunger Prevention Program\, and Harpswell Aging at Home.
URL:https://hah.community/event/sharing-tables/
CATEGORIES:Public Events
END:VEVENT
BEGIN:VEVENT
DTSTART;TZID=America/New_York:20220628T130000
DTEND;TZID=America/New_York:20220628T140000
DTSTAMP:20260421T224433
CREATED:20220627T150323Z
LAST-MODIFIED:20220627T152008Z
UID:495-1656421200-1656424800@hah.community
SUMMARY:Snacks with Friends
DESCRIPTION:Join your friends and neighbors for warm sea breezes and some sweet and savory snacks as we meet at Mackerel Cove. Co-sponsored by the Orr’s Island Library\, the Orr’s and Bailey Island Fire and Rescue/Schoolhouse and Orr’s and Bailey Island Yacht Club\, we’ll gather for a lovely afternoon of reconnecting. Bring a chair! Thanks to the Harpswell Heritage Land Trust for letting us use this scenic spot. Rain date of 06/29.
URL:https://hah.community/event/snacks-with-friends/
LOCATION:Mackerel Cove\, Bailey Island\, ME\, 04003\, United States
CATEGORIES:Public Events
END:VEVENT
END:VCALENDAR