BEGIN:VCALENDAR
VERSION:2.0
PRODID:-//Harpswell Aging at Home - ECPv6.15.20//NONSGML v1.0//EN
CALSCALE:GREGORIAN
METHOD:PUBLISH
X-WR-CALNAME:Harpswell Aging at Home
X-ORIGINAL-URL:https://hah.community
X-WR-CALDESC:Events for Harpswell Aging at Home
REFRESH-INTERVAL;VALUE=DURATION:PT1H
X-Robots-Tag:noindex
X-PUBLISHED-TTL:PT1H
BEGIN:VTIMEZONE
TZID:America/New_York
BEGIN:DAYLIGHT
TZOFFSETFROM:-0500
TZOFFSETTO:-0400
TZNAME:EDT
DTSTART:20230312T070000
END:DAYLIGHT
BEGIN:STANDARD
TZOFFSETFROM:-0400
TZOFFSETTO:-0500
TZNAME:EST
DTSTART:20231105T060000
END:STANDARD
BEGIN:DAYLIGHT
TZOFFSETFROM:-0500
TZOFFSETTO:-0400
TZNAME:EDT
DTSTART:20240310T070000
END:DAYLIGHT
BEGIN:STANDARD
TZOFFSETFROM:-0400
TZOFFSETTO:-0500
TZNAME:EST
DTSTART:20241103T060000
END:STANDARD
BEGIN:DAYLIGHT
TZOFFSETFROM:-0500
TZOFFSETTO:-0400
TZNAME:EDT
DTSTART:20250309T070000
END:DAYLIGHT
BEGIN:STANDARD
TZOFFSETFROM:-0400
TZOFFSETTO:-0500
TZNAME:EST
DTSTART:20251102T060000
END:STANDARD
END:VTIMEZONE
BEGIN:VEVENT
DTSTART;TZID=America/New_York:20240321T093000
DTEND;TZID=America/New_York:20240321T120000
DTSTAMP:20260420T040309
CREATED:20240308T181256Z
LAST-MODIFIED:20240308T181256Z
UID:1648-1711013400-1711022400@hah.community
SUMMARY:Friends Together
DESCRIPTION:Friends Together is a free drop-in center with a range of activities\, open to all who live in Harpswell. This week’s session consists of Tai Chi with Steve Ingram followed by a creative session\, “With Brush\, Paint\, and Canvas.” Enjoy visiting with friends old and new. Transportation to and from Friends Together is available by contacting Lynne Smith at People Plus\, 207-729-0757. Come once or come every week. No registration is necessary. For more information\, call or email Cynthia McDougall at 207-522-4486 or cjmcd@comcast.net.
URL:https://hah.community/event/friends-together-11/
LOCATION:Harpswell Town Office\, 263 Mountain Road\, Harpswell\, ME\, 04079\, United States
CATEGORIES:Friends Together,Public Events
ORGANIZER;CN="Cynthia McDougall":MAILTO:cjmcd@comcast.net
END:VEVENT
END:VCALENDAR