BEGIN:VCALENDAR
VERSION:2.0
PRODID:-//Harpswell Aging at Home - ECPv6.15.20//NONSGML v1.0//EN
CALSCALE:GREGORIAN
METHOD:PUBLISH
X-ORIGINAL-URL:https://hah.community
X-WR-CALDESC:Events for Harpswell Aging at Home
REFRESH-INTERVAL;VALUE=DURATION:PT1H
X-Robots-Tag:noindex
X-PUBLISHED-TTL:PT1H
BEGIN:VTIMEZONE
TZID:America/New_York
BEGIN:DAYLIGHT
TZOFFSETFROM:-0500
TZOFFSETTO:-0400
TZNAME:EDT
DTSTART:20220313T070000
END:DAYLIGHT
BEGIN:STANDARD
TZOFFSETFROM:-0400
TZOFFSETTO:-0500
TZNAME:EST
DTSTART:20221106T060000
END:STANDARD
BEGIN:DAYLIGHT
TZOFFSETFROM:-0500
TZOFFSETTO:-0400
TZNAME:EDT
DTSTART:20230312T070000
END:DAYLIGHT
BEGIN:STANDARD
TZOFFSETFROM:-0400
TZOFFSETTO:-0500
TZNAME:EST
DTSTART:20231105T060000
END:STANDARD
BEGIN:DAYLIGHT
TZOFFSETFROM:-0500
TZOFFSETTO:-0400
TZNAME:EDT
DTSTART:20240310T070000
END:DAYLIGHT
BEGIN:STANDARD
TZOFFSETFROM:-0400
TZOFFSETTO:-0500
TZNAME:EST
DTSTART:20241103T060000
END:STANDARD
END:VTIMEZONE
BEGIN:VEVENT
DTSTART;TZID=America/New_York:20231026T093000
DTEND;TZID=America/New_York:20231026T113000
DTSTAMP:20260420T124659
CREATED:20231023T231353Z
LAST-MODIFIED:20231026T133713Z
UID:1437-1698312600-1698319800@hah.community
SUMMARY:Friends Together
DESCRIPTION:Friends Together is a free drop-in center with a range of activities\, open to all who live in Harpswell. This week’s session consists of chair yoga with Janet Alexander followed by “Seashell Ornaments: Bringing the Beach Inside” with Shannon Larsen. Enjoy visiting with friends old and new. Transportation to and from Friends Together is available by contacting Lynne Smith at People Plus\, 207-729-0757. Come once or come every week. No registration is necessary. For more information\, Call or email Cynthia McDougall at 207-522-4486 or cjmcd@comcast.net.
URL:https://hah.community/event/friends-together-10/
LOCATION:Harpswell Town Office\, 263 Mountain Road\, Harpswell\, ME\, 04079\, United States
CATEGORIES:Friends Together
ORGANIZER;CN="Cynthia McDougall":MAILTO:cjmcd@comcast.net
END:VEVENT
END:VCALENDAR