BEGIN:VCALENDAR
VERSION:2.0
PRODID:-//Harpswell Aging at Home - ECPv6.15.20//NONSGML v1.0//EN
CALSCALE:GREGORIAN
METHOD:PUBLISH
X-WR-CALNAME:Harpswell Aging at Home
X-ORIGINAL-URL:https://hah.community
X-WR-CALDESC:Events for Harpswell Aging at Home
REFRESH-INTERVAL;VALUE=DURATION:PT1H
X-Robots-Tag:noindex
X-PUBLISHED-TTL:PT1H
BEGIN:VTIMEZONE
TZID:America/New_York
BEGIN:DAYLIGHT
TZOFFSETFROM:-0500
TZOFFSETTO:-0400
TZNAME:EDT
DTSTART:20250309T070000
END:DAYLIGHT
BEGIN:STANDARD
TZOFFSETFROM:-0400
TZOFFSETTO:-0500
TZNAME:EST
DTSTART:20251102T060000
END:STANDARD
BEGIN:DAYLIGHT
TZOFFSETFROM:-0500
TZOFFSETTO:-0400
TZNAME:EDT
DTSTART:20260308T070000
END:DAYLIGHT
BEGIN:STANDARD
TZOFFSETFROM:-0400
TZOFFSETTO:-0500
TZNAME:EST
DTSTART:20261101T060000
END:STANDARD
BEGIN:DAYLIGHT
TZOFFSETFROM:-0500
TZOFFSETTO:-0400
TZNAME:EDT
DTSTART:20270314T070000
END:DAYLIGHT
BEGIN:STANDARD
TZOFFSETFROM:-0400
TZOFFSETTO:-0500
TZNAME:EST
DTSTART:20271107T060000
END:STANDARD
END:VTIMEZONE
BEGIN:VEVENT
DTSTART;TZID=America/New_York:20260409T133000
DTEND;TZID=America/New_York:20260409T150000
DTSTAMP:20260419T204825
CREATED:20260312T213207Z
LAST-MODIFIED:20260312T213207Z
UID:2570-1775741400-1775746800@hah.community
SUMMARY:Cooking at 43° North From Sea to Plate
DESCRIPTION:Wonder how seafood gets to your plate? Ever see a whole fish at the market and don’t purchase it because you don’t know how to filet it? Join us for an informative program by Harpswell fisherman Jerry Leeman. He comes from a long line of commercial fishermen and will discuss the dangerous conditions fishermen face along with the rewards. Jerry will also share his expertise on how to properly filet fish. Sample chowder along with other seafood treats. All are welcome. Reserve your seat by email to juliemoulton28@gmail.com or text Julie 207-330-5416.
URL:https://hah.community/event/cooking-at-43-north-from-sea-to-plate/
LOCATION:Cundy’s Harbor Community Hall\, 837 Cundy's Harbor Road\, Harpswell\, ME\, 04079\, United States
CATEGORIES:Cooking at 43º North,Public Events
ORGANIZER;CN="Julie Moulton":MAILTO:juliemoulton28@gmail.com
END:VEVENT
END:VCALENDAR