BEGIN:VCALENDAR
VERSION:2.0
PRODID:-//Harpswell Aging at Home - ECPv6.15.20//NONSGML v1.0//EN
CALSCALE:GREGORIAN
METHOD:PUBLISH
X-WR-CALNAME:Harpswell Aging at Home
X-ORIGINAL-URL:https://hah.community
X-WR-CALDESC:Events for Harpswell Aging at Home
REFRESH-INTERVAL;VALUE=DURATION:PT1H
X-Robots-Tag:noindex
X-PUBLISHED-TTL:PT1H
BEGIN:VTIMEZONE
TZID:America/New_York
BEGIN:DAYLIGHT
TZOFFSETFROM:-0500
TZOFFSETTO:-0400
TZNAME:EDT
DTSTART:20250309T070000
END:DAYLIGHT
BEGIN:STANDARD
TZOFFSETFROM:-0400
TZOFFSETTO:-0500
TZNAME:EST
DTSTART:20251102T060000
END:STANDARD
BEGIN:DAYLIGHT
TZOFFSETFROM:-0500
TZOFFSETTO:-0400
TZNAME:EDT
DTSTART:20260308T070000
END:DAYLIGHT
BEGIN:STANDARD
TZOFFSETFROM:-0400
TZOFFSETTO:-0500
TZNAME:EST
DTSTART:20261101T060000
END:STANDARD
BEGIN:DAYLIGHT
TZOFFSETFROM:-0500
TZOFFSETTO:-0400
TZNAME:EDT
DTSTART:20270314T070000
END:DAYLIGHT
BEGIN:STANDARD
TZOFFSETFROM:-0400
TZOFFSETTO:-0500
TZNAME:EST
DTSTART:20271107T060000
END:STANDARD
END:VTIMEZONE
BEGIN:VEVENT
DTSTART;TZID=America/New_York:20260319T130000
DTEND;TZID=America/New_York:20260319T143000
DTSTAMP:20260419T222621
CREATED:20260216T201410Z
LAST-MODIFIED:20260216T201425Z
UID:2525-1773925200-1773930600@hah.community
SUMMARY:HAH Women's Social Group CRAFT-A-PALOOZA
DESCRIPTION:The HAH Women’s Social Group is hosting a CRAFT-A-PALOOZA this month! All Harpswell women ages 55+ (crafty or not) are invited to bring their current project to share and spend time together creating. Whether it’s knitting\, painting\, basket weaving\, etc. join us for some fun\, conversation and light refreshments. Due to limited seating\, registration is required. Please email your interest to: womensgroup@hah.community.
URL:https://hah.community/event/hah-womens-social-group-craft-a-palooza/
LOCATION:Cundy’s Harbor Community Hall\, 837 Cundy's Harbor Road\, Harpswell\, ME\, 04079\, United States
CATEGORIES:Public Events,Women's Group
ORGANIZER;CN="HAH":MAILTO:hah@hah.community
END:VEVENT
END:VCALENDAR