BEGIN:VCALENDAR
VERSION:2.0
PRODID:-//Harpswell Aging at Home - ECPv6.15.20//NONSGML v1.0//EN
CALSCALE:GREGORIAN
METHOD:PUBLISH
X-ORIGINAL-URL:https://hah.community
X-WR-CALDESC:Events for Harpswell Aging at Home
REFRESH-INTERVAL;VALUE=DURATION:PT1H
X-Robots-Tag:noindex
X-PUBLISHED-TTL:PT1H
BEGIN:VTIMEZONE
TZID:America/New_York
BEGIN:DAYLIGHT
TZOFFSETFROM:-0500
TZOFFSETTO:-0400
TZNAME:EDT
DTSTART:20250309T070000
END:DAYLIGHT
BEGIN:STANDARD
TZOFFSETFROM:-0400
TZOFFSETTO:-0500
TZNAME:EST
DTSTART:20251102T060000
END:STANDARD
BEGIN:DAYLIGHT
TZOFFSETFROM:-0500
TZOFFSETTO:-0400
TZNAME:EDT
DTSTART:20260308T070000
END:DAYLIGHT
BEGIN:STANDARD
TZOFFSETFROM:-0400
TZOFFSETTO:-0500
TZNAME:EST
DTSTART:20261101T060000
END:STANDARD
BEGIN:DAYLIGHT
TZOFFSETFROM:-0500
TZOFFSETTO:-0400
TZNAME:EDT
DTSTART:20270314T070000
END:DAYLIGHT
BEGIN:STANDARD
TZOFFSETFROM:-0400
TZOFFSETTO:-0500
TZNAME:EST
DTSTART:20271107T060000
END:STANDARD
END:VTIMEZONE
BEGIN:VEVENT
DTSTART;TZID=America/New_York:20260108T133000
DTEND;TZID=America/New_York:20260108T150000
DTSTAMP:20260420T015712
CREATED:20251215T161105Z
LAST-MODIFIED:20251215T161105Z
UID:2483-1767879000-1767884400@hah.community
SUMMARY:Cooking at 43° North: Lobstering Aboard The Easy Money
DESCRIPTION:HAH’s Cooking at 43° North program presents: Lobstering Aboard The Easy Money with Bill Coffin. Experienced lobsterman Bill Coffin will provide an insider’s look at what it means to lobster in Harpswell. Bill will share his stories as he answers questions about his challenging profession. Learn what drives him to go out on his boat and bring in the catch. Sample a few lobster treats made by Harpswell cooks. Space is limited. Reserve your seat by emailing Julie Moulton at juliemoulton28@gmail.com or text/call her at 207-330-5416.
URL:https://hah.community/event/cooking-at-43-north-lobstering-aboard-the-easy-money/
LOCATION:Merriconeag Grange\, 529 Harpswell Neck Rd\, Harpswell\, ME\, 04079\, United States
CATEGORIES:Cooking at 43º North,Public Events
ORGANIZER;CN="Julie Moulton":MAILTO:juliemoulton28@gmail.com
END:VEVENT
END:VCALENDAR