BEGIN:VCALENDAR
VERSION:2.0
PRODID:-//Harpswell Aging at Home - ECPv6.15.20//NONSGML v1.0//EN
CALSCALE:GREGORIAN
METHOD:PUBLISH
X-ORIGINAL-URL:https://hah.community
X-WR-CALDESC:Events for Harpswell Aging at Home
REFRESH-INTERVAL;VALUE=DURATION:PT1H
X-Robots-Tag:noindex
X-PUBLISHED-TTL:PT1H
BEGIN:VTIMEZONE
TZID:America/New_York
BEGIN:DAYLIGHT
TZOFFSETFROM:-0500
TZOFFSETTO:-0400
TZNAME:EDT
DTSTART:20240310T070000
END:DAYLIGHT
BEGIN:STANDARD
TZOFFSETFROM:-0400
TZOFFSETTO:-0500
TZNAME:EST
DTSTART:20241103T060000
END:STANDARD
BEGIN:DAYLIGHT
TZOFFSETFROM:-0500
TZOFFSETTO:-0400
TZNAME:EDT
DTSTART:20250309T070000
END:DAYLIGHT
BEGIN:STANDARD
TZOFFSETFROM:-0400
TZOFFSETTO:-0500
TZNAME:EST
DTSTART:20251102T060000
END:STANDARD
BEGIN:DAYLIGHT
TZOFFSETFROM:-0500
TZOFFSETTO:-0400
TZNAME:EDT
DTSTART:20260308T070000
END:DAYLIGHT
BEGIN:STANDARD
TZOFFSETFROM:-0400
TZOFFSETTO:-0500
TZNAME:EST
DTSTART:20261101T060000
END:STANDARD
END:VTIMEZONE
BEGIN:VEVENT
DTSTART;TZID=America/New_York:20251218T130000
DTEND;TZID=America/New_York:20251218T150000
DTSTAMP:20260420T052311
CREATED:20251203T210121Z
LAST-MODIFIED:20251203T210308Z
UID:2458-1766062800-1766070000@hah.community
SUMMARY:Harpswell Aging at Home Women's Group Holiday Tea & Yankee Swap
DESCRIPTION:Harpswell Aging at Home Women’s Group is having a Holiday Tea & Yankee Swap* on December 18 at 1:00 p.m. at Orr’s Island Schoolhouse. We welcome your baked goodies to share and don’t forget a wrapped gift for the Yankee Swap. Questions? Contact Christine at womensgroup@hah.community. \n*Yankee Swap: a fun party game where guests exchange a wrapped item that they no longer use but is still in good condition. \nView the flyer
URL:https://hah.community/event/harpswell-aging-at-home-womens-group-holiday-tea-yankee-swap/
LOCATION:Orr’s Island Schoolhouse\, 1594 Harpswell Islands Road\, Orr's Island\, ME\, 04066\, United States
CATEGORIES:Public Events,Women's Group
ORGANIZER;CN="HAH":MAILTO:hah@hah.community
END:VEVENT
END:VCALENDAR