BEGIN:VCALENDAR
VERSION:2.0
PRODID:-//Harpswell Aging at Home - ECPv6.15.20//NONSGML v1.0//EN
CALSCALE:GREGORIAN
METHOD:PUBLISH
X-ORIGINAL-URL:https://hah.community
X-WR-CALDESC:Events for Harpswell Aging at Home
REFRESH-INTERVAL;VALUE=DURATION:PT1H
X-Robots-Tag:noindex
X-PUBLISHED-TTL:PT1H
BEGIN:VTIMEZONE
TZID:America/New_York
BEGIN:DAYLIGHT
TZOFFSETFROM:-0500
TZOFFSETTO:-0400
TZNAME:EDT
DTSTART:20240310T070000
END:DAYLIGHT
BEGIN:STANDARD
TZOFFSETFROM:-0400
TZOFFSETTO:-0500
TZNAME:EST
DTSTART:20241103T060000
END:STANDARD
BEGIN:DAYLIGHT
TZOFFSETFROM:-0500
TZOFFSETTO:-0400
TZNAME:EDT
DTSTART:20250309T070000
END:DAYLIGHT
BEGIN:STANDARD
TZOFFSETFROM:-0400
TZOFFSETTO:-0500
TZNAME:EST
DTSTART:20251102T060000
END:STANDARD
BEGIN:DAYLIGHT
TZOFFSETFROM:-0500
TZOFFSETTO:-0400
TZNAME:EDT
DTSTART:20260308T070000
END:DAYLIGHT
BEGIN:STANDARD
TZOFFSETFROM:-0400
TZOFFSETTO:-0500
TZNAME:EST
DTSTART:20261101T060000
END:STANDARD
END:VTIMEZONE
BEGIN:VEVENT
DTSTART;TZID=America/New_York:20251112T120000
DTEND;TZID=America/New_York:20251112T133000
DTSTAMP:20260420T053719
CREATED:20251015T191421Z
LAST-MODIFIED:20251015T191421Z
UID:2352-1762948800-1762954200@hah.community
SUMMARY:Harpswell ROMEOs: Saluting Our Vets
DESCRIPTION:As we honor those who have served our country\, come hear from Rich Mears from the Mid-Coast Veterans’ Council\, who will share the many services the Council provides to Veterans and their families. Lunch will be served. The event is free but registration is required due to limited seating. To register and for additional info\, contact Tom Mahoney at oldermeneatingout@gmail.com.
URL:https://hah.community/event/harpswell-romeos-saluting-our-vets/
LOCATION:Merriconeag Grange\, 529 Harpswell Neck Rd\, Harpswell\, ME\, 04079\, United States
CATEGORIES:Harpswell ROMEOs,Public Events
ORGANIZER;CN="HAH":MAILTO:hah@hah.community
END:VEVENT
END:VCALENDAR