BEGIN:VCALENDAR
VERSION:2.0
PRODID:-//Harpswell Aging at Home - ECPv6.15.20//NONSGML v1.0//EN
CALSCALE:GREGORIAN
METHOD:PUBLISH
X-ORIGINAL-URL:https://hah.community
X-WR-CALDESC:Events for Harpswell Aging at Home
REFRESH-INTERVAL;VALUE=DURATION:PT1H
X-Robots-Tag:noindex
X-PUBLISHED-TTL:PT1H
BEGIN:VTIMEZONE
TZID:America/New_York
BEGIN:DAYLIGHT
TZOFFSETFROM:-0500
TZOFFSETTO:-0400
TZNAME:EDT
DTSTART:20240310T070000
END:DAYLIGHT
BEGIN:STANDARD
TZOFFSETFROM:-0400
TZOFFSETTO:-0500
TZNAME:EST
DTSTART:20241103T060000
END:STANDARD
BEGIN:DAYLIGHT
TZOFFSETFROM:-0500
TZOFFSETTO:-0400
TZNAME:EDT
DTSTART:20250309T070000
END:DAYLIGHT
BEGIN:STANDARD
TZOFFSETFROM:-0400
TZOFFSETTO:-0500
TZNAME:EST
DTSTART:20251102T060000
END:STANDARD
BEGIN:DAYLIGHT
TZOFFSETFROM:-0500
TZOFFSETTO:-0400
TZNAME:EDT
DTSTART:20260308T070000
END:DAYLIGHT
BEGIN:STANDARD
TZOFFSETFROM:-0400
TZOFFSETTO:-0500
TZNAME:EST
DTSTART:20261101T060000
END:STANDARD
END:VTIMEZONE
BEGIN:VEVENT
DTSTART;TZID=America/New_York:20251008T110000
DTEND;TZID=America/New_York:20251008T120000
DTSTAMP:20260420T074044
CREATED:20250818T184326Z
LAST-MODIFIED:20250818T184326Z
UID:2292-1759921200-1759924800@hah.community
SUMMARY:Bereavement Support Program
DESCRIPTION:Losing a loved one can be hard and filled with grief. To help manage the loss\, HAH is initiating a twelve-week Bereavement Support Group for individuals and families of all ages. Recurring: Every Wednesday for 12 weeks. For more information and to register\, call the group facilitator\, Sarah Beneke at 330-414-4825.
URL:https://hah.community/event/bereavement-support-program-2/
LOCATION:TBA
CATEGORIES:Bereavement Support Program,Public Events
END:VEVENT
BEGIN:VEVENT
DTSTART;TZID=America/New_York:20251008T120000
DTEND;TZID=America/New_York:20251008T133000
DTSTAMP:20260420T074044
CREATED:20250915T175630Z
LAST-MODIFIED:20250915T175630Z
UID:2325-1759924800-1759930200@hah.community
SUMMARY:Harpswell ROMEOs: Our Stars at Night are Big and Bright
DESCRIPTION:Most people in the US can’t see the Milky Way at night due to light pollution. In Harpswell\, we are part of a small few who still can. Howard Marshall\, Southern Maine Astronomers (SMA) board member\, will share how important dark skies are and what you can do to help. Then\, join SMA for a free star party at Mitchell Field on October 24th at 5:30 pm to see for yourself. The ROMEOS event\, which includes lunch is also free but registration is required due to limited seating. To register and for ad­ditional info\, contact Tom Mahoney at oldermeneatingout@gmail.com.
URL:https://hah.community/event/harpswell-romeos-our-stars-at-night-are-big-and-bright/
LOCATION:Merriconeag Grange\, 529 Harpswell Neck Rd\, Harpswell\, ME\, 04079\, United States
CATEGORIES:Harpswell ROMEOs,Public Events
ORGANIZER;CN="HAH":MAILTO:hah@hah.community
END:VEVENT
END:VCALENDAR