BEGIN:VCALENDAR
VERSION:2.0
PRODID:-//Harpswell Aging at Home - ECPv6.15.20//NONSGML v1.0//EN
CALSCALE:GREGORIAN
METHOD:PUBLISH
X-WR-CALNAME:Harpswell Aging at Home
X-ORIGINAL-URL:https://hah.community
X-WR-CALDESC:Events for Harpswell Aging at Home
REFRESH-INTERVAL;VALUE=DURATION:PT1H
X-Robots-Tag:noindex
X-PUBLISHED-TTL:PT1H
BEGIN:VTIMEZONE
TZID:America/New_York
BEGIN:DAYLIGHT
TZOFFSETFROM:-0500
TZOFFSETTO:-0400
TZNAME:EDT
DTSTART:20240310T070000
END:DAYLIGHT
BEGIN:STANDARD
TZOFFSETFROM:-0400
TZOFFSETTO:-0500
TZNAME:EST
DTSTART:20241103T060000
END:STANDARD
BEGIN:DAYLIGHT
TZOFFSETFROM:-0500
TZOFFSETTO:-0400
TZNAME:EDT
DTSTART:20250309T070000
END:DAYLIGHT
BEGIN:STANDARD
TZOFFSETFROM:-0400
TZOFFSETTO:-0500
TZNAME:EST
DTSTART:20251102T060000
END:STANDARD
BEGIN:DAYLIGHT
TZOFFSETFROM:-0500
TZOFFSETTO:-0400
TZNAME:EDT
DTSTART:20260308T070000
END:DAYLIGHT
BEGIN:STANDARD
TZOFFSETFROM:-0400
TZOFFSETTO:-0500
TZNAME:EST
DTSTART:20261101T060000
END:STANDARD
END:VTIMEZONE
BEGIN:VEVENT
DTSTART;TZID=America/New_York:20250918T133000
DTEND;TZID=America/New_York:20250918T150000
DTSTAMP:20260421T045014
CREATED:20250818T183027Z
LAST-MODIFIED:20250818T183122Z
UID:2282-1758202200-1758207600@hah.community
SUMMARY:Cooking at 43° North presents: The Cutting Edge
DESCRIPTION:Sharpen your culinary confidence in this hands-on Knife Skills class! Learn essential techniques for slicing\, dicing\, chopping\, and julienning with precision and safety. You’ll practice proper grip\, knife care\, and cutting methods for a variety of ingredients. All knives and materials provided. Space is limited. To sign up\, contact Julie Moulton at (juliemoulton28@gmail.com) or texting or calling her at 207-330-5416. All are welcome.
URL:https://hah.community/event/cooking-at-43-north-presents-the-cutting-edge-2/
LOCATION:Midcoast Hunger Prevention Program Kitchen\, 12 Tenney Way\, Brunswick\, ME\, 04011\, United States
CATEGORIES:Cooking at 43º North,Public Events
ORGANIZER;CN="Julie Moulton":MAILTO:juliemoulton28@gmail.com
END:VEVENT
END:VCALENDAR