BEGIN:VCALENDAR
VERSION:2.0
PRODID:-//Harpswell Aging at Home - ECPv6.15.20//NONSGML v1.0//EN
CALSCALE:GREGORIAN
METHOD:PUBLISH
X-ORIGINAL-URL:https://hah.community
X-WR-CALDESC:Events for Harpswell Aging at Home
REFRESH-INTERVAL;VALUE=DURATION:PT1H
X-Robots-Tag:noindex
X-PUBLISHED-TTL:PT1H
BEGIN:VTIMEZONE
TZID:America/New_York
BEGIN:DAYLIGHT
TZOFFSETFROM:-0500
TZOFFSETTO:-0400
TZNAME:EDT
DTSTART:20240310T070000
END:DAYLIGHT
BEGIN:STANDARD
TZOFFSETFROM:-0400
TZOFFSETTO:-0500
TZNAME:EST
DTSTART:20241103T060000
END:STANDARD
BEGIN:DAYLIGHT
TZOFFSETFROM:-0500
TZOFFSETTO:-0400
TZNAME:EDT
DTSTART:20250309T070000
END:DAYLIGHT
BEGIN:STANDARD
TZOFFSETFROM:-0400
TZOFFSETTO:-0500
TZNAME:EST
DTSTART:20251102T060000
END:STANDARD
BEGIN:DAYLIGHT
TZOFFSETFROM:-0500
TZOFFSETTO:-0400
TZNAME:EDT
DTSTART:20260308T070000
END:DAYLIGHT
BEGIN:STANDARD
TZOFFSETFROM:-0400
TZOFFSETTO:-0500
TZNAME:EST
DTSTART:20261101T060000
END:STANDARD
END:VTIMEZONE
BEGIN:VEVENT
DTSTART;TZID=America/New_York:20250806T090000
DTEND;TZID=America/New_York:20250806T100000
DTSTAMP:20260422T135435
CREATED:20250616T125212Z
LAST-MODIFIED:20250616T125212Z
UID:2231-1754470800-1754474400@hah.community
SUMMARY:Tai Chi with Steve Ingram
DESCRIPTION:Have you ever wanted to learn Tai Chi? Here’s your chance to start. Join us for this six-week series of classes providing an introduction to this low-impact\, gentle exercise with roots in ancient Chinese martial arts. All ages are welcome and no experience or registration is necessary. Bring water and bug spray. \nThis event will be held every Wednesday morning through August 13 at the Mitchell Field Bandstand or Beach depending on the tide. These classes will be held rain or shine unless there is thunder or lightning. Missed class will be made up on August 20th.
URL:https://hah.community/event/tai-chi-with-steve-ingram-5/
LOCATION:Mitchell Field Bandstand
CATEGORIES:Public Events
END:VEVENT
BEGIN:VEVENT
DTSTART;TZID=America/New_York:20250806T120000
DTEND;TZID=America/New_York:20250806T160000
DTSTAMP:20260422T135435
CREATED:20250616T125505Z
LAST-MODIFIED:20250616T125505Z
UID:2235-1754481600-1754496000@hah.community
SUMMARY:Sharing Tables
DESCRIPTION:Harpswell Aging at Home’s Sharing Tables offer free produce from noon to 4 p.m. every Wednesday during the growing season\, beginning in mid-June\, at the Cundy’s Harbor Church of the Nazarene\, 863 Cundy’s Harbor Road\, Harpswell; Elijah Kellogg Church; and the Orr’s Island Library. Contributions come from Growing to Give\, the Harpswell Community Garden\, and the Mid Coast Hunger Prevention Program\, as well as local gardeners\, who may donate excess vegetables at their nearest Sharing Table.
URL:https://hah.community/event/sharing-tables-51/
LOCATION:Multiple Venues
CATEGORIES:Public Events
END:VEVENT
END:VCALENDAR