BEGIN:VCALENDAR
VERSION:2.0
PRODID:-//Harpswell Aging at Home - ECPv6.15.20//NONSGML v1.0//EN
CALSCALE:GREGORIAN
METHOD:PUBLISH
X-WR-CALNAME:Harpswell Aging at Home
X-ORIGINAL-URL:https://hah.community
X-WR-CALDESC:Events for Harpswell Aging at Home
REFRESH-INTERVAL;VALUE=DURATION:PT1H
X-Robots-Tag:noindex
X-PUBLISHED-TTL:PT1H
BEGIN:VTIMEZONE
TZID:America/New_York
BEGIN:DAYLIGHT
TZOFFSETFROM:-0500
TZOFFSETTO:-0400
TZNAME:EDT
DTSTART:20240310T070000
END:DAYLIGHT
BEGIN:STANDARD
TZOFFSETFROM:-0400
TZOFFSETTO:-0500
TZNAME:EST
DTSTART:20241103T060000
END:STANDARD
BEGIN:DAYLIGHT
TZOFFSETFROM:-0500
TZOFFSETTO:-0400
TZNAME:EDT
DTSTART:20250309T070000
END:DAYLIGHT
BEGIN:STANDARD
TZOFFSETFROM:-0400
TZOFFSETTO:-0500
TZNAME:EST
DTSTART:20251102T060000
END:STANDARD
BEGIN:DAYLIGHT
TZOFFSETFROM:-0500
TZOFFSETTO:-0400
TZNAME:EDT
DTSTART:20260308T070000
END:DAYLIGHT
BEGIN:STANDARD
TZOFFSETFROM:-0400
TZOFFSETTO:-0500
TZNAME:EST
DTSTART:20261101T060000
END:STANDARD
END:VTIMEZONE
BEGIN:VEVENT
DTSTART;TZID=America/New_York:20250612T133000
DTEND;TZID=America/New_York:20250612T150000
DTSTAMP:20260422T172004
CREATED:20250515T180509Z
LAST-MODIFIED:20250515T180924Z
UID:2206-1749735000-1749740400@hah.community
SUMMARY:Cooking at 43° North presents: It's All Greek To Me
DESCRIPTION:Come learn about the ins and outs of using phyllo dough to make some delicious Greek treats. It’s easier than you think. We’ll show you how to create spanakopita (spinach pie) and baklava (sweet dessert pastry) and answer your questions. Then we’ll get to taste the results of our labors! Sign up by emailing Julie Moulton (juliemoulton28@gmail.com) or texting or calling her at 207-330-5416. All are welcome.
URL:https://hah.community/event/cooking-at-43-north-presents-its-all-greek-to-me/
LOCATION:Orr’s Island Schoolhouse\, 1594 Harpswell Islands Road\, Orr's Island\, ME\, 04066\, United States
CATEGORIES:Cooking at 43º North,Public Events
ORGANIZER;CN="Julie Moulton":MAILTO:juliemoulton28@gmail.com
END:VEVENT
END:VCALENDAR