BEGIN:VCALENDAR
VERSION:2.0
PRODID:-//Harpswell Aging at Home - ECPv6.15.20//NONSGML v1.0//EN
CALSCALE:GREGORIAN
METHOD:PUBLISH
X-WR-CALNAME:Harpswell Aging at Home
X-ORIGINAL-URL:https://hah.community
X-WR-CALDESC:Events for Harpswell Aging at Home
REFRESH-INTERVAL;VALUE=DURATION:PT1H
X-Robots-Tag:noindex
X-PUBLISHED-TTL:PT1H
BEGIN:VTIMEZONE
TZID:America/New_York
BEGIN:DAYLIGHT
TZOFFSETFROM:-0500
TZOFFSETTO:-0400
TZNAME:EDT
DTSTART:20240310T070000
END:DAYLIGHT
BEGIN:STANDARD
TZOFFSETFROM:-0400
TZOFFSETTO:-0500
TZNAME:EST
DTSTART:20241103T060000
END:STANDARD
BEGIN:DAYLIGHT
TZOFFSETFROM:-0500
TZOFFSETTO:-0400
TZNAME:EDT
DTSTART:20250309T070000
END:DAYLIGHT
BEGIN:STANDARD
TZOFFSETFROM:-0400
TZOFFSETTO:-0500
TZNAME:EST
DTSTART:20251102T060000
END:STANDARD
BEGIN:DAYLIGHT
TZOFFSETFROM:-0500
TZOFFSETTO:-0400
TZNAME:EDT
DTSTART:20260308T070000
END:DAYLIGHT
BEGIN:STANDARD
TZOFFSETFROM:-0400
TZOFFSETTO:-0500
TZNAME:EST
DTSTART:20261101T060000
END:STANDARD
END:VTIMEZONE
BEGIN:VEVENT
DTSTART;TZID=America/New_York:20250611T120000
DTEND;TZID=America/New_York:20250611T130000
DTSTAMP:20260422T172002
CREATED:20250515T180846Z
LAST-MODIFIED:20250515T180846Z
UID:2208-1749643200-1749646800@hah.community
SUMMARY:Lunch with Friends
DESCRIPTION:Join HAH for an outdoor community lunch with friends to celebrate the warmer weather. Food will include picnic fare such as sandwiches\, wraps\, cold salads\, chips\, fresh fruit and desserts. Water\, lemonade and iced tea will be provided. Bring your chair and join us by the bandstand. There is such a thing as a free lunch! Questions? Please contact Julie Moulton (juliemoulton28@gmail.com or 207-330-5416). Hope to see you there!
URL:https://hah.community/event/lunch-with-friends-17/
LOCATION:Mitchell Field Bandstand
CATEGORIES:Lunch with Friends,Public Events
ORGANIZER;CN="Julie Moulton":MAILTO:juliemoulton28@gmail.com
END:VEVENT
END:VCALENDAR